BEGIN:VCALENDAR
VERSION:2.0
PRODID:-//Kalender - Sub e.V. - ECPv6.15.20//NONSGML v1.0//EN
CALSCALE:GREGORIAN
METHOD:PUBLISH
X-WR-CALNAME:Kalender - Sub e.V.
X-ORIGINAL-URL:https://kalender.subonline.org
X-WR-CALDESC:Events for Kalender - Sub e.V.
REFRESH-INTERVAL;VALUE=DURATION:PT1H
X-Robots-Tag:noindex
X-PUBLISHED-TTL:PT1H
BEGIN:VTIMEZONE
TZID:Europe/Berlin
BEGIN:DAYLIGHT
TZOFFSETFROM:+0100
TZOFFSETTO:+0200
TZNAME:CEST
DTSTART:20250330T010000
END:DAYLIGHT
BEGIN:STANDARD
TZOFFSETFROM:+0200
TZOFFSETTO:+0100
TZNAME:CET
DTSTART:20251026T010000
END:STANDARD
BEGIN:DAYLIGHT
TZOFFSETFROM:+0100
TZOFFSETTO:+0200
TZNAME:CEST
DTSTART:20260329T010000
END:DAYLIGHT
BEGIN:STANDARD
TZOFFSETFROM:+0200
TZOFFSETTO:+0100
TZNAME:CET
DTSTART:20261025T010000
END:STANDARD
BEGIN:DAYLIGHT
TZOFFSETFROM:+0100
TZOFFSETTO:+0200
TZNAME:CEST
DTSTART:20270328T010000
END:DAYLIGHT
BEGIN:STANDARD
TZOFFSETFROM:+0200
TZOFFSETTO:+0100
TZNAME:CET
DTSTART:20271031T010000
END:STANDARD
END:VTIMEZONE
BEGIN:VEVENT
DTSTART;TZID=Europe/Berlin:20260128T190000
DTEND;TZID=Europe/Berlin:20260128T230000
DTSTAMP:20260426T030043
CREATED:20251030T001036Z
LAST-MODIFIED:20260128T214030Z
UID:10048255-1769626800-1769641200@kalender.subonline.org
SUMMARY:queerGottesdienst München: Ansgar D.\, Markus W.\, Norman S.
DESCRIPTION:
URL:https://kalender.subonline.org/event/nn-nn-nn-42/
LOCATION:Sub\, Müllerstraße 14\, Müllerstraße 14\, München\, Bayern\, 80469\, Germany
CATEGORIES:Thekendienst
GEO:48.132709;11.5734764
X-APPLE-STRUCTURED-LOCATION;VALUE=URI;X-ADDRESS=Sub Müllerstraße 14 Müllerstraße 14 München Bayern 80469 Germany;X-APPLE-RADIUS=500;X-TITLE=Müllerstraße 14:geo:11.5734764,48.132709
END:VEVENT
BEGIN:VEVENT
DTSTART;TZID=Europe/Berlin:20260127T193000
DTEND;TZID=Europe/Berlin:20260127T210000
DTSTAMP:20260426T030043
CREATED:20251029T005653Z
LAST-MODIFIED:20260127T191040Z
UID:10048254-1769542200-1769547600@kalender.subonline.org
SUMMARY:Gruppe für schwule/bisexuelle Männer* mit Depressions- und Burnouterfahrung
DESCRIPTION:
URL:https://kalender.subonline.org/event/gruppe-fur-schwule-bisexuelle-manner-mit-depressions-und-burnouterfahrung-2/
CATEGORIES:Events im Zentrum
END:VEVENT
BEGIN:VEVENT
DTSTART;TZID=Europe/Berlin:20260126T190000
DTEND;TZID=Europe/Berlin:20260126T230000
DTSTAMP:20260426T030043
CREATED:20251028T014448Z
LAST-MODIFIED:20260126T212545Z
UID:10048251-1769454000-1769468400@kalender.subonline.org
SUMMARY:Martin T.
DESCRIPTION:
URL:https://kalender.subonline.org/event/nn-6/
LOCATION:Sub\, Müllerstraße 14\, Müllerstraße 14\, München\, Bayern\, 80469\, Germany
CATEGORIES:Café-Manager
GEO:48.132709;11.5734764
X-APPLE-STRUCTURED-LOCATION;VALUE=URI;X-ADDRESS=Sub Müllerstraße 14 Müllerstraße 14 München Bayern 80469 Germany;X-APPLE-RADIUS=500;X-TITLE=Müllerstraße 14:geo:11.5734764,48.132709
END:VEVENT
BEGIN:VEVENT
DTSTART;TZID=Europe/Berlin:20260125T190000
DTEND;TZID=Europe/Berlin:20260125T230000
DTSTAMP:20260426T030043
CREATED:20251027T011124Z
LAST-MODIFIED:20251222T072650Z
UID:10048249-1769367600-1769382000@kalender.subonline.org
SUMMARY:NN
DESCRIPTION:
URL:https://kalender.subonline.org/event/nn-5/
LOCATION:Sub\, Müllerstraße 14\, Müllerstraße 14\, München\, Bayern\, 80469\, Germany
CATEGORIES:Café-Manager
GEO:48.132709;11.5734764
X-APPLE-STRUCTURED-LOCATION;VALUE=URI;X-ADDRESS=Sub Müllerstraße 14 Müllerstraße 14 München Bayern 80469 Germany;X-APPLE-RADIUS=500;X-TITLE=Müllerstraße 14:geo:11.5734764,48.132709
END:VEVENT
END:VCALENDAR