BEGIN:VCALENDAR
VERSION:2.0
PRODID:-//Kalender - Sub e.V. - ECPv6.15.20//NONSGML v1.0//EN
CALSCALE:GREGORIAN
METHOD:PUBLISH
X-WR-CALNAME:Kalender - Sub e.V.
X-ORIGINAL-URL:https://kalender.subonline.org
X-WR-CALDESC:Events for Kalender - Sub e.V.
REFRESH-INTERVAL;VALUE=DURATION:PT1H
X-Robots-Tag:noindex
X-PUBLISHED-TTL:PT1H
BEGIN:VTIMEZONE
TZID:Europe/Berlin
BEGIN:DAYLIGHT
TZOFFSETFROM:+0100
TZOFFSETTO:+0200
TZNAME:CEST
DTSTART:20250330T010000
END:DAYLIGHT
BEGIN:STANDARD
TZOFFSETFROM:+0200
TZOFFSETTO:+0100
TZNAME:CET
DTSTART:20251026T010000
END:STANDARD
BEGIN:DAYLIGHT
TZOFFSETFROM:+0100
TZOFFSETTO:+0200
TZNAME:CEST
DTSTART:20260329T010000
END:DAYLIGHT
BEGIN:STANDARD
TZOFFSETFROM:+0200
TZOFFSETTO:+0100
TZNAME:CET
DTSTART:20261025T010000
END:STANDARD
BEGIN:DAYLIGHT
TZOFFSETFROM:+0100
TZOFFSETTO:+0200
TZNAME:CEST
DTSTART:20270328T010000
END:DAYLIGHT
BEGIN:STANDARD
TZOFFSETFROM:+0200
TZOFFSETTO:+0100
TZNAME:CET
DTSTART:20271031T010000
END:STANDARD
END:VTIMEZONE
BEGIN:VEVENT
DTSTART;TZID=Europe/Berlin:20260427T190000
DTEND;TZID=Europe/Berlin:20260427T230000
DTSTAMP:20260425T134324
CREATED:20260127T231102Z
LAST-MODIFIED:20260425T114253Z
UID:10048649-1777316400-1777330800@kalender.subonline.org
SUMMARY:Marcel W.
DESCRIPTION:
URL:https://kalender.subonline.org/event/nn-130/
LOCATION:Sub\, Müllerstraße 14\, Müllerstraße 14\, München\, Bayern\, 80469\, Germany
CATEGORIES:Café-Manager
GEO:48.132709;11.5734764
X-APPLE-STRUCTURED-LOCATION;VALUE=URI;X-ADDRESS=Sub Müllerstraße 14 Müllerstraße 14 München Bayern 80469 Germany;X-APPLE-RADIUS=500;X-TITLE=Müllerstraße 14:geo:11.5734764,48.132709
END:VEVENT
BEGIN:VEVENT
DTSTART;TZID=Europe/Berlin:20260426T190000
DTEND;TZID=Europe/Berlin:20260426T230000
DTSTAMP:20260425T134324
CREATED:20260126T235655Z
LAST-MODIFIED:20260425T114253Z
UID:10048648-1777230000-1777244400@kalender.subonline.org
SUMMARY:Tovja W.
DESCRIPTION:
URL:https://kalender.subonline.org/event/nn-174/
LOCATION:Sub\, Müllerstraße 14\, Müllerstraße 14\, München\, Bayern\, 80469\, Germany
CATEGORIES:Café-Manager
GEO:48.132709;11.5734764
X-APPLE-STRUCTURED-LOCATION;VALUE=URI;X-ADDRESS=Sub Müllerstraße 14 Müllerstraße 14 München Bayern 80469 Germany;X-APPLE-RADIUS=500;X-TITLE=Müllerstraße 14:geo:11.5734764,48.132709
END:VEVENT
BEGIN:VEVENT
DTSTART;TZID=Europe/Berlin:20260426T190000
DTEND;TZID=Europe/Berlin:20260426T230000
DTSTAMP:20260425T134324
CREATED:20260126T232536Z
LAST-MODIFIED:20260425T105405Z
UID:10048647-1777230000-1777244400@kalender.subonline.org
SUMMARY:Daniel V.\, Danielle C.\, Petar B.\, Phionah N.\, Thomas B.
DESCRIPTION:
URL:https://kalender.subonline.org/event/nn-nn-nn-36/
LOCATION:Sub\, Müllerstraße 14\, Müllerstraße 14\, München\, Bayern\, 80469\, Germany
CATEGORIES:Thekendienst
GEO:48.132709;11.5734764
X-APPLE-STRUCTURED-LOCATION;VALUE=URI;X-ADDRESS=Sub Müllerstraße 14 Müllerstraße 14 München Bayern 80469 Germany;X-APPLE-RADIUS=500;X-TITLE=Müllerstraße 14:geo:11.5734764,48.132709
END:VEVENT
BEGIN:VEVENT
DTSTART;TZID=Europe/Berlin:20260425T200000
DTEND;TZID=Europe/Berlin:20260426T010000
DTSTAMP:20260425T134324
CREATED:20260126T092550Z
LAST-MODIFIED:20260425T114252Z
UID:10048646-1777147200-1777165200@kalender.subonline.org
SUMMARY:Frank M.\, Marius (Timon)
DESCRIPTION:
URL:https://kalender.subonline.org/event/nn-173/
LOCATION:Sub\, Müllerstraße 14\, Müllerstraße 14\, München\, Bayern\, 80469\, Germany
CATEGORIES:Café-Manager
GEO:48.132709;11.5734764
X-APPLE-STRUCTURED-LOCATION;VALUE=URI;X-ADDRESS=Sub Müllerstraße 14 Müllerstraße 14 München Bayern 80469 Germany;X-APPLE-RADIUS=500;X-TITLE=Müllerstraße 14:geo:11.5734764,48.132709
END:VEVENT
BEGIN:VEVENT
DTSTART;TZID=Europe/Berlin:20260425T200000
DTEND;TZID=Europe/Berlin:20260426T010000
DTSTAMP:20260425T134324
CREATED:20260125T234046Z
LAST-MODIFIED:20260425T105405Z
UID:10048610-1777147200-1777165200@kalender.subonline.org
SUMMARY:Alexander D.\, Bernd W.\, Christoph D.\, David S.\, Niklas S.
DESCRIPTION:
URL:https://kalender.subonline.org/event/nn-nn-nn-nn-nn-5/
LOCATION:Sub\, Müllerstraße 14\, Müllerstraße 14\, München\, Bayern\, 80469\, Germany
CATEGORIES:Thekendienst
GEO:48.132709;11.5734764
X-APPLE-STRUCTURED-LOCATION;VALUE=URI;X-ADDRESS=Sub Müllerstraße 14 Müllerstraße 14 München Bayern 80469 Germany;X-APPLE-RADIUS=500;X-TITLE=Müllerstraße 14:geo:11.5734764,48.132709
END:VEVENT
BEGIN:VEVENT
DTSTART;TZID=Europe/Berlin:20260425T200000
DTEND;TZID=Europe/Berlin:20260425T230000
DTSTAMP:20260425T134324
CREATED:20260417T090723Z
LAST-MODIFIED:20260425T112554Z
UID:10049000-1777147200-1777158000@kalender.subonline.org
SUMMARY:Farewell Selige Maikönigin
DESCRIPTION:
URL:https://kalender.subonline.org/event/farewell-selige-maikonigin-2/
LOCATION:Bayern
CATEGORIES:Events im Zentrum
END:VEVENT
BEGIN:VEVENT
DTSTART;TZID=Europe/Berlin:20260424T200000
DTEND;TZID=Europe/Berlin:20260424T223000
DTSTAMP:20260425T134324
CREATED:20260124T005541Z
LAST-MODIFIED:20260424T202610Z
UID:10048607-1777060800-1777069800@kalender.subonline.org
SUMMARY:VIVA TS Treffen
DESCRIPTION:
URL:https://kalender.subonline.org/event/viva-ts-treffen-24/
LOCATION:Bayern
CATEGORIES:Events im Zentrum
END:VEVENT
BEGIN:VEVENT
DTSTART;TZID=Europe/Berlin:20260424T190000
DTEND;TZID=Europe/Berlin:20260425T000000
DTSTAMP:20260425T134324
CREATED:20260124T232734Z
LAST-MODIFIED:20260424T195708Z
UID:10048609-1777057200-1777075200@kalender.subonline.org
SUMMARY:Queerpass Bayern: DJ Mike\, Hans-Jörg W.\, Johann S.\, Sebastian H.\, Thomas P.
DESCRIPTION:
URL:https://kalender.subonline.org/event/queerpass-bayern-nn-nn-nn-nn-nn-3/
LOCATION:Sub\, Müllerstraße 14\, Müllerstraße 14\, München\, Bayern\, 80469\, Germany
CATEGORIES:Thekendienst
GEO:48.132709;11.5734764
X-APPLE-STRUCTURED-LOCATION;VALUE=URI;X-ADDRESS=Sub Müllerstraße 14 Müllerstraße 14 München Bayern 80469 Germany;X-APPLE-RADIUS=500;X-TITLE=Müllerstraße 14:geo:11.5734764,48.132709
END:VEVENT
BEGIN:VEVENT
DTSTART;TZID=Europe/Berlin:20260424T190000
DTEND;TZID=Europe/Berlin:20260424T220000
DTSTAMP:20260425T134324
CREATED:20260124T005541Z
LAST-MODIFIED:20260424T192643Z
UID:10048608-1777057200-1777068000@kalender.subonline.org
SUMMARY:Queer Bipocs Munich
DESCRIPTION:
URL:https://kalender.subonline.org/event/queer-bipocs-munich/
LOCATION:Bayern
CATEGORIES:Events im Zentrum
END:VEVENT
BEGIN:VEVENT
DTSTART;TZID=Europe/Berlin:20260423T200000
DTEND;TZID=Europe/Berlin:20260423T230000
DTSTAMP:20260425T134324
CREATED:20260123T005534Z
LAST-MODIFIED:20260423T194029Z
UID:10048604-1776974400-1776985200@kalender.subonline.org
SUMMARY:Cercle Francais
DESCRIPTION:
URL:https://kalender.subonline.org/event/cercle-francais-2/
LOCATION:Bayern
CATEGORIES:Events im Zentrum
END:VEVENT
BEGIN:VEVENT
DTSTART;TZID=Europe/Berlin:20260423T191500
DTEND;TZID=Europe/Berlin:20260423T221500
DTSTAMP:20260425T134324
CREATED:20260123T005534Z
LAST-MODIFIED:20260423T194030Z
UID:10048603-1776971700-1776982500@kalender.subonline.org
SUMMARY:Gay & Grey
DESCRIPTION:
URL:https://kalender.subonline.org/event/gay-grey-2/
LOCATION:Bayern
CATEGORIES:Events im Zentrum
END:VEVENT
BEGIN:VEVENT
DTSTART;TZID=Europe/Berlin:20260421T193000
DTEND;TZID=Europe/Berlin:20260421T223000
DTSTAMP:20260425T134324
CREATED:20260121T005547Z
LAST-MODIFIED:20260421T201052Z
UID:10048595-1776799800-1776810600@kalender.subonline.org
SUMMARY:Munich Kiev Queer
DESCRIPTION:
URL:https://kalender.subonline.org/event/munich-kiev-queer-5/
LOCATION:Sub – Schwules Kommunikations- und Kulturzentrum München e.V.\, Müllerstraße 14\, 80469 München\, Deutschland\, Müllerstraße 14\, München\, Bayern\, 80469\, Germany
CATEGORIES:Events im Zentrum
GEO:48.132709;11.5734764
X-APPLE-STRUCTURED-LOCATION;VALUE=URI;X-ADDRESS=Sub – Schwules Kommunikations- und Kulturzentrum München e.V. Müllerstraße 14 80469 München Deutschland Müllerstraße 14 München Bayern 80469 Germany;X-APPLE-RADIUS=500;X-TITLE=Müllerstraße 14:geo:11.5734764,48.132709
END:VEVENT
BEGIN:VEVENT
DTSTART;TZID=Europe/Berlin:20260421T193000
DTEND;TZID=Europe/Berlin:20260421T210000
DTSTAMP:20260425T134324
CREATED:20260121T005547Z
LAST-MODIFIED:20260421T190709Z
UID:10048594-1776799800-1776805200@kalender.subonline.org
SUMMARY:Gruppe für schwule/bisexuelle Männer* mit Depressions- und Burnouterfahrung
DESCRIPTION:
URL:https://kalender.subonline.org/event/gruppe-fur-schwule-bisexuelle-manner-mit-depressions-und-burnouterfahrung-14/
LOCATION:Bayern
CATEGORIES:Events im Zentrum
END:VEVENT
BEGIN:VEVENT
DTSTART;TZID=Europe/Berlin:20260421T193000
DTEND;TZID=Europe/Berlin:20260421T200000
DTSTAMP:20260425T134324
CREATED:20260121T005546Z
LAST-MODIFIED:20260421T174019Z
UID:10048593-1776799800-1776801600@kalender.subonline.org
SUMMARY:Sub+ (mit Voranmeldung)
DESCRIPTION:Plus im SubEin Angebot für positive Männer nach Voranmeldung unter subplusgruppe@subonline.org Das Münchner Schwulenzentrum hat auch eine Gruppe für positive Männer im Programm. SubPlus bietet Freizeit und Beratung. \nPositiv im Sub. Jeden ersten und dritten Dienstag im Monat kommt im Münchner Schwulenzentrum die SubPlusGruppe zusammen. Schau vorbei! Wir treffen uns in der Müllerstraße 14\, tauschen uns aus\, diskutieren auch mal fachliche Fragen und können – falls nötig – auf ein kompetentes Beraternetzwerk zurückgreifen. Das Sub weiß Bescheid und arbeitet ja außerdem eng mit der Münchner Aids-Hilfe zusammen. \nJan Geiger betreut die Gruppe. Er leitet das Projekt Prävention im Sub. \nDiskretion und VertrauenFreizeit kommt nicht zu kurz. Wir planen gemeinsam unsere Aktivitäten. Was passiert\, bestimmst Du. Selbstverständlich bleiben wir dabei diskret\, denn bei uns soll sich jeder wohlfühlen. Melde Dich!
URL:https://kalender.subonline.org/event/sub-mit-voranmeldung-4/
LOCATION:Bayern
CATEGORIES:Events im Zentrum
END:VEVENT
BEGIN:VEVENT
DTSTART;TZID=Europe/Berlin:20260421T190000
DTEND;TZID=Europe/Berlin:20260421T230000
DTSTAMP:20260425T134324
CREATED:20260413T115737Z
LAST-MODIFIED:20260421T210847Z
UID:10048979-1776798000-1776812400@kalender.subonline.org
SUMMARY:ESC-Lieder Vorstellung
DESCRIPTION:Franky stellt alle Lieder des diesjährigen CSD vor!
URL:https://kalender.subonline.org/event/esc-lieder-vorstellung/
LOCATION:Bayern
CATEGORIES:Events im Zentrum
END:VEVENT
BEGIN:VEVENT
DTSTART;TZID=Europe/Berlin:20260419T190000
DTEND;TZID=Europe/Berlin:20260419T230000
DTSTAMP:20260425T134324
CREATED:20260119T231040Z
LAST-MODIFIED:20260419T205009Z
UID:10048590-1776625200-1776639600@kalender.subonline.org
SUMMARY:Kai E.\, Karl-Heinz P.\, Niels H.
DESCRIPTION:
URL:https://kalender.subonline.org/event/nn-nn-nn-14/
LOCATION:Sub\, Müllerstraße 14\, Müllerstraße 14\, München\, Bayern\, 80469\, Germany
CATEGORIES:Thekendienst
GEO:48.132709;11.5734764
X-APPLE-STRUCTURED-LOCATION;VALUE=URI;X-ADDRESS=Sub Müllerstraße 14 Müllerstraße 14 München Bayern 80469 Germany;X-APPLE-RADIUS=500;X-TITLE=Müllerstraße 14:geo:11.5734764,48.132709
END:VEVENT
BEGIN:VEVENT
DTSTART;VALUE=DATE:20260419
DTEND;VALUE=DATE:20260421
DTSTAMP:20260425T134324
CREATED:20260119T195529Z
LAST-MODIFIED:20260419T051056Z
UID:10048589-1776564000-1776650399@kalender.subonline.org
SUMMARY:Bowling
DESCRIPTION:mittendrin München 🏳️‍🌈 #290 | Orga: Stephan\, Markus & Pierre || 📢 ANMELDUNG & INFOS im Kanal: https://t1p.de/mittendrin-kanal || 💡 Anmeldung erforderlich || ✉️ KONTAKT: mittendrin@subonline.org | 🔗 INFOS: https://t1p.de/mittendrin-infos
URL:https://kalender.subonline.org/event/bowling-2/
LOCATION:Bayern
CATEGORIES:Mittendrin
END:VEVENT
BEGIN:VEVENT
DTSTART;TZID=Europe/Berlin:20260417T200000
DTEND;TZID=Europe/Berlin:20260417T223000
DTSTAMP:20260425T134324
CREATED:20260117T005544Z
LAST-MODIFIED:20260417T191056Z
UID:10048583-1776456000-1776465000@kalender.subonline.org
SUMMARY:VIVA TS Treffen
DESCRIPTION:
URL:https://kalender.subonline.org/event/viva-ts-treffen/
LOCATION:Bayern
CATEGORIES:Events im Zentrum
END:VEVENT
BEGIN:VEVENT
DTSTART;TZID=Europe/Berlin:20260416T200000
DTEND;TZID=Europe/Berlin:20260416T230000
DTSTAMP:20260425T134324
CREATED:20260116T005745Z
LAST-MODIFIED:20260416T205638Z
UID:10048580-1776369600-1776380400@kalender.subonline.org
SUMMARY:Cercle Francais
DESCRIPTION:
URL:https://kalender.subonline.org/event/cercle-francais-20/
LOCATION:Bayern
CATEGORIES:Events im Zentrum
END:VEVENT
BEGIN:VEVENT
DTSTART;TZID=Europe/Berlin:20260416T193000
DTEND;TZID=Europe/Berlin:20260416T210000
DTSTAMP:20260425T134324
CREATED:20260116T005745Z
LAST-MODIFIED:20260416T181156Z
UID:10048579-1776367800-1776373200@kalender.subonline.org
SUMMARY:Deutsch Konversationskurs
DESCRIPTION:
URL:https://kalender.subonline.org/event/deutsch-konversationskurs-27/
LOCATION:Bayern
CATEGORIES:Events im Zentrum
END:VEVENT
BEGIN:VEVENT
DTSTART;TZID=Europe/Berlin:20260416T191500
DTEND;TZID=Europe/Berlin:20260416T221500
DTSTAMP:20260425T134324
CREATED:20260116T005745Z
LAST-MODIFIED:20260416T201117Z
UID:10048581-1776366900-1776377700@kalender.subonline.org
SUMMARY:Gay & Grey
DESCRIPTION:
URL:https://kalender.subonline.org/event/gay-grey-13/
LOCATION:Bayern
CATEGORIES:Events im Zentrum
END:VEVENT
BEGIN:VEVENT
DTSTART;TZID=Europe/Berlin:20260416T190000
DTEND;TZID=Europe/Berlin:20260416T230000
DTSTAMP:20260425T134324
CREATED:20260116T231250Z
LAST-MODIFIED:20260416T191113Z
UID:10048582-1776366000-1776380400@kalender.subonline.org
SUMMARY:HighFlyNight: Bernd W.\, Bernhard E.\, Karsten M.\, Michael H.\, Thomas V.
DESCRIPTION:
URL:https://kalender.subonline.org/event/highflynight-nn-nn-nn-nn-3/
LOCATION:Sub\, Müllerstraße 14\, Müllerstraße 14\, München\, Bayern\, 80469\, Germany
CATEGORIES:Thekendienst
GEO:48.132709;11.5734764
X-APPLE-STRUCTURED-LOCATION;VALUE=URI;X-ADDRESS=Sub Müllerstraße 14 Müllerstraße 14 München Bayern 80469 Germany;X-APPLE-RADIUS=500;X-TITLE=Müllerstraße 14:geo:11.5734764,48.132709
END:VEVENT
BEGIN:VEVENT
DTSTART;TZID=Europe/Berlin:20260416T190000
DTEND;TZID=Europe/Berlin:20260416T220000
DTSTAMP:20260425T134324
CREATED:20260116T005745Z
LAST-MODIFIED:20260416T195641Z
UID:10048578-1776366000-1776376800@kalender.subonline.org
SUMMARY:Gay Alpin im DAV - Stammtisch
DESCRIPTION:
URL:https://kalender.subonline.org/event/gay-alpin-im-dav-stammtisch/
LOCATION:Bayern
CATEGORIES:Events im Zentrum
END:VEVENT
BEGIN:VEVENT
DTSTART;TZID=Europe/Berlin:20260415T193000
DTEND;TZID=Europe/Berlin:20260415T223000
DTSTAMP:20260425T134324
CREATED:20260115T004042Z
LAST-MODIFIED:20260415T195524Z
UID:10048575-1776281400-1776292200@kalender.subonline.org
SUMMARY:Brettspielgruppe
DESCRIPTION:
URL:https://kalender.subonline.org/event/brettspielgruppe/
LOCATION:Bayern
CATEGORIES:Events im Zentrum
END:VEVENT
BEGIN:VEVENT
DTSTART;TZID=Europe/Berlin:20260415T190000
DTEND;TZID=Europe/Berlin:20260415T220000
DTSTAMP:20260425T134324
CREATED:20260115T004042Z
LAST-MODIFIED:20260415T195524Z
UID:10048572-1776279600-1776290400@kalender.subonline.org
SUMMARY:Schach im Sub
DESCRIPTION:
URL:https://kalender.subonline.org/event/schach-im-sub/
LOCATION:Bayern
CATEGORIES:Events im Zentrum
END:VEVENT
BEGIN:VEVENT
DTSTART;TZID=Europe/Berlin:20260412T190000
DTEND;TZID=Europe/Berlin:20260412T230000
DTSTAMP:20260425T134324
CREATED:20260126T092546Z
LAST-MODIFIED:20260412T192538Z
UID:10048632-1776020400-1776034800@kalender.subonline.org
SUMMARY:Nicholas M.
DESCRIPTION:
URL:https://kalender.subonline.org/event/nn-159/
LOCATION:Sub\, Müllerstraße 14\, Müllerstraße 14\, München\, Bayern\, 80469\, Germany
CATEGORIES:Café-Manager
GEO:48.132709;11.5734764
X-APPLE-STRUCTURED-LOCATION;VALUE=URI;X-ADDRESS=Sub Müllerstraße 14 Müllerstraße 14 München Bayern 80469 Germany;X-APPLE-RADIUS=500;X-TITLE=Müllerstraße 14:geo:11.5734764,48.132709
END:VEVENT
BEGIN:VEVENT
DTSTART;TZID=Europe/Berlin:20260410T200000
DTEND;TZID=Europe/Berlin:20260410T223000
DTSTAMP:20260425T134324
CREATED:20260110T005747Z
LAST-MODIFIED:20260410T202654Z
UID:10048561-1775851200-1775860200@kalender.subonline.org
SUMMARY:VIVA TS Treffen
DESCRIPTION:
URL:https://kalender.subonline.org/event/viva-ts-treffen-16/
LOCATION:Bayern
CATEGORIES:Events im Zentrum
END:VEVENT
BEGIN:VEVENT
DTSTART;TZID=Europe/Berlin:20260410T190000
DTEND;TZID=Europe/Berlin:20260411T000000
DTSTAMP:20260425T134324
CREATED:20260110T232748Z
LAST-MODIFIED:20260410T171041Z
UID:10048562-1775847600-1775865600@kalender.subonline.org
SUMMARY:Proud@SWM: Hasan\, Maciej F.\, Marcel K.\, Steffen B.\, Tobias W.
DESCRIPTION:
URL:https://kalender.subonline.org/event/proudswm-nn-nn-nn-nn-nn/
LOCATION:Sub\, Müllerstraße 14\, Müllerstraße 14\, München\, Bayern\, 80469\, Germany
CATEGORIES:Thekendienst
GEO:48.132709;11.5734764
X-APPLE-STRUCTURED-LOCATION;VALUE=URI;X-ADDRESS=Sub Müllerstraße 14 Müllerstraße 14 München Bayern 80469 Germany;X-APPLE-RADIUS=500;X-TITLE=Müllerstraße 14:geo:11.5734764,48.132709
END:VEVENT
BEGIN:VEVENT
DTSTART;TZID=Europe/Berlin:20260410T170000
DTEND;TZID=Europe/Berlin:20260410T200000
DTSTAMP:20260425T134324
CREATED:20260110T005747Z
LAST-MODIFIED:20260410T172538Z
UID:10048560-1775840400-1775851200@kalender.subonline.org
SUMMARY:Kostenloser Testabend im Sub
DESCRIPTION:
URL:https://kalender.subonline.org/event/kostenloser-testabend-im-sub/
LOCATION:Bayern
CATEGORIES:Events im Zentrum
END:VEVENT
BEGIN:VEVENT
DTSTART;TZID=Europe/Berlin:20260408T190000
DTEND;TZID=Europe/Berlin:20260408T230000
DTSTAMP:20260425T134324
CREATED:20260126T092546Z
LAST-MODIFIED:20260408T202613Z
UID:10048628-1775674800-1775689200@kalender.subonline.org
SUMMARY:René K.
DESCRIPTION:
URL:https://kalender.subonline.org/event/rene-k/
LOCATION:Sub\, Müllerstraße 14\, Müllerstraße 14\, München\, Bayern\, 80469\, Germany
CATEGORIES:Café-Manager
GEO:48.132709;11.5734764
X-APPLE-STRUCTURED-LOCATION;VALUE=URI;X-ADDRESS=Sub Müllerstraße 14 Müllerstraße 14 München Bayern 80469 Germany;X-APPLE-RADIUS=500;X-TITLE=Müllerstraße 14:geo:11.5734764,48.132709
END:VEVENT
END:VCALENDAR