BEGIN:VCALENDAR
VERSION:2.0
PRODID:-//Kalender - Sub e.V. - ECPv6.15.20//NONSGML v1.0//EN
CALSCALE:GREGORIAN
METHOD:PUBLISH
X-ORIGINAL-URL:https://kalender.subonline.org
X-WR-CALDESC:Events for Kalender - Sub e.V.
REFRESH-INTERVAL;VALUE=DURATION:PT1H
X-Robots-Tag:noindex
X-PUBLISHED-TTL:PT1H
BEGIN:VTIMEZONE
TZID:Europe/Berlin
BEGIN:DAYLIGHT
TZOFFSETFROM:+0100
TZOFFSETTO:+0200
TZNAME:CEST
DTSTART:20250330T010000
END:DAYLIGHT
BEGIN:STANDARD
TZOFFSETFROM:+0200
TZOFFSETTO:+0100
TZNAME:CET
DTSTART:20251026T010000
END:STANDARD
BEGIN:DAYLIGHT
TZOFFSETFROM:+0100
TZOFFSETTO:+0200
TZNAME:CEST
DTSTART:20260329T010000
END:DAYLIGHT
BEGIN:STANDARD
TZOFFSETFROM:+0200
TZOFFSETTO:+0100
TZNAME:CET
DTSTART:20261025T010000
END:STANDARD
BEGIN:DAYLIGHT
TZOFFSETFROM:+0100
TZOFFSETTO:+0200
TZNAME:CEST
DTSTART:20270328T010000
END:DAYLIGHT
BEGIN:STANDARD
TZOFFSETFROM:+0200
TZOFFSETTO:+0100
TZNAME:CET
DTSTART:20271031T010000
END:STANDARD
END:VTIMEZONE
BEGIN:VEVENT
DTSTART;TZID=Europe/Berlin:20260603T200000
DTEND;TZID=Europe/Berlin:20260604T010000
DTSTAMP:20260426T021910
CREATED:20260305T001039Z
LAST-MODIFIED:20260425T220118Z
UID:10048803-1780516800-1780534800@kalender.subonline.org
SUMMARY:Henrik L.
DESCRIPTION:
URL:https://kalender.subonline.org/event/nn-143/
LOCATION:Sub\, Müllerstraße 14\, Müllerstraße 14\, München\, Bayern\, 80469\, Germany
CATEGORIES:Café-Manager
GEO:48.132709;11.5734764
X-APPLE-STRUCTURED-LOCATION;VALUE=URI;X-ADDRESS=Sub Müllerstraße 14 Müllerstraße 14 München Bayern 80469 Germany;X-APPLE-RADIUS=500;X-TITLE=Müllerstraße 14:geo:11.5734764,48.132709
END:VEVENT
BEGIN:VEVENT
DTSTART;TZID=Europe/Berlin:20260603T200000
DTEND;TZID=Europe/Berlin:20260604T010000
DTSTAMP:20260426T021911
CREATED:20260305T011206Z
LAST-MODIFIED:20260425T192849Z
UID:10048811-1780516800-1780534800@kalender.subonline.org
SUMMARY:International Queer Meetup Munich: NN\, NN\, NN\, NN\, NN\, NN\, NN
DESCRIPTION:
URL:https://kalender.subonline.org/event/international-queer-meetup-munich-nn-nn-nn-4/
LOCATION:Sub\, Müllerstraße 14\, Müllerstraße 14\, München\, Bayern\, 80469\, Germany
CATEGORIES:Thekendienst
GEO:48.132709;11.5734764
X-APPLE-STRUCTURED-LOCATION;VALUE=URI;X-ADDRESS=Sub Müllerstraße 14 Müllerstraße 14 München Bayern 80469 Germany;X-APPLE-RADIUS=500;X-TITLE=Müllerstraße 14:geo:11.5734764,48.132709
END:VEVENT
BEGIN:VEVENT
DTSTART;TZID=Europe/Berlin:20260604T190000
DTEND;TZID=Europe/Berlin:20260604T230000
DTSTAMP:20260426T021911
CREATED:20260306T001057Z
LAST-MODIFIED:20260425T192849Z
UID:10048812-1780599600-1780614000@kalender.subonline.org
SUMMARY:TransMann e.V.: Bernd W.\, Jonas F.\, Kai E.\, NN
DESCRIPTION:
URL:https://kalender.subonline.org/event/transmann-e-v-nn-nn-nn-nn/
LOCATION:Sub\, Müllerstraße 14\, Müllerstraße 14\, München\, Bayern\, 80469\, Germany
CATEGORIES:Thekendienst
GEO:48.132709;11.5734764
X-APPLE-STRUCTURED-LOCATION;VALUE=URI;X-ADDRESS=Sub Müllerstraße 14 Müllerstraße 14 München Bayern 80469 Germany;X-APPLE-RADIUS=500;X-TITLE=Müllerstraße 14:geo:11.5734764,48.132709
END:VEVENT
BEGIN:VEVENT
DTSTART;TZID=Europe/Berlin:20260604T190000
DTEND;TZID=Europe/Berlin:20260604T230000
DTSTAMP:20260426T021911
CREATED:20260306T001124Z
LAST-MODIFIED:20260425T220118Z
UID:10048813-1780599600-1780614000@kalender.subonline.org
SUMMARY:NN
DESCRIPTION:
URL:https://kalender.subonline.org/event/nn-144/
LOCATION:Sub\, Müllerstraße 14\, Müllerstraße 14\, München\, Bayern\, 80469\, Germany
CATEGORIES:Café-Manager
GEO:48.132709;11.5734764
X-APPLE-STRUCTURED-LOCATION;VALUE=URI;X-ADDRESS=Sub Müllerstraße 14 Müllerstraße 14 München Bayern 80469 Germany;X-APPLE-RADIUS=500;X-TITLE=Müllerstraße 14:geo:11.5734764,48.132709
END:VEVENT
BEGIN:VEVENT
DTSTART;TZID=Europe/Berlin:20260604T191500
DTEND;TZID=Europe/Berlin:20260604T210000
DTSTAMP:20260426T021911
CREATED:20260306T005545Z
LAST-MODIFIED:20260426T001551Z
UID:10048816-1780600500-1780606800@kalender.subonline.org
SUMMARY:Queeramnesty
DESCRIPTION:
URL:https://kalender.subonline.org/event/queeramnesty-5/
LOCATION:Sub – Schwules Kommunikations- und Kulturzentrum München e.V.\, Müllerstraße 14\, 80469 München\, Deutschland\, Müllerstraße 14\, München\, Bayern\, 80469\, Germany
CATEGORIES:Events im Zentrum
GEO:48.132709;11.5734764
X-APPLE-STRUCTURED-LOCATION;VALUE=URI;X-ADDRESS=Sub – Schwules Kommunikations- und Kulturzentrum München e.V. Müllerstraße 14 80469 München Deutschland Müllerstraße 14 München Bayern 80469 Germany;X-APPLE-RADIUS=500;X-TITLE=Müllerstraße 14:geo:11.5734764,48.132709
END:VEVENT
BEGIN:VEVENT
DTSTART;TZID=Europe/Berlin:20260604T191500
DTEND;TZID=Europe/Berlin:20260604T221500
DTSTAMP:20260426T021911
CREATED:20260306T005544Z
LAST-MODIFIED:20260426T001551Z
UID:10048815-1780600500-1780611300@kalender.subonline.org
SUMMARY:Gay & Grey
DESCRIPTION:
URL:https://kalender.subonline.org/event/gay-grey-33/
LOCATION:Bayern
CATEGORIES:Events im Zentrum
END:VEVENT
BEGIN:VEVENT
DTSTART;TZID=Europe/Berlin:20260604T193000
DTEND;TZID=Europe/Berlin:20260604T210000
DTSTAMP:20260426T021911
CREATED:20260306T005545Z
LAST-MODIFIED:20260426T001551Z
UID:10048817-1780601400-1780606800@kalender.subonline.org
SUMMARY:Deutsch Konversationskurs
DESCRIPTION:
URL:https://kalender.subonline.org/event/deutsch-konversationskurs-18/
LOCATION:Bayern
CATEGORIES:Events im Zentrum
END:VEVENT
BEGIN:VEVENT
DTSTART;TZID=Europe/Berlin:20260604T200000
DTEND;TZID=Europe/Berlin:20260604T230000
DTSTAMP:20260426T021911
CREATED:20260306T005544Z
LAST-MODIFIED:20260426T001557Z
UID:10048814-1780603200-1780614000@kalender.subonline.org
SUMMARY:Cercle Francais
DESCRIPTION:
URL:https://kalender.subonline.org/event/cercle-francais-28/
LOCATION:Bayern
CATEGORIES:Events im Zentrum
END:VEVENT
BEGIN:VEVENT
DTSTART;TZID=Europe/Berlin:20260605T190000
DTEND;TZID=Europe/Berlin:20260605T210000
DTSTAMP:20260426T021911
CREATED:20260307T015625Z
LAST-MODIFIED:20260426T001557Z
UID:10048821-1780686000-1780693200@kalender.subonline.org
SUMMARY:QTies
DESCRIPTION:
URL:https://kalender.subonline.org/event/qties-6/
LOCATION:Bayern
CATEGORIES:Events im Zentrum
END:VEVENT
BEGIN:VEVENT
DTSTART;TZID=Europe/Berlin:20260605T190000
DTEND;TZID=Europe/Berlin:20260606T000000
DTSTAMP:20260426T021911
CREATED:20260307T012624Z
LAST-MODIFIED:20260425T220119Z
UID:10048818-1780686000-1780704000@kalender.subonline.org
SUMMARY:NN
DESCRIPTION:
URL:https://kalender.subonline.org/event/nn-145/
LOCATION:Sub\, Müllerstraße 14\, Müllerstraße 14\, München\, Bayern\, 80469\, Germany
CATEGORIES:Café-Manager
GEO:48.132709;11.5734764
X-APPLE-STRUCTURED-LOCATION;VALUE=URI;X-ADDRESS=Sub Müllerstraße 14 Müllerstraße 14 München Bayern 80469 Germany;X-APPLE-RADIUS=500;X-TITLE=Müllerstraße 14:geo:11.5734764,48.132709
END:VEVENT
BEGIN:VEVENT
DTSTART;TZID=Europe/Berlin:20260605T190000
DTEND;TZID=Europe/Berlin:20260606T000000
DTSTAMP:20260426T021911
CREATED:20260307T014141Z
LAST-MODIFIED:20260425T192919Z
UID:10048819-1780686000-1780704000@kalender.subonline.org
SUMMARY:Fetischtheke: NN\, NN\, NN\, NN\, NN
DESCRIPTION:
URL:https://kalender.subonline.org/event/fetischtheke-nn-nn-nn-nn-nn/
LOCATION:Sub\, Müllerstraße 14\, Müllerstraße 14\, München\, Bayern\, 80469\, Germany
CATEGORIES:Thekendienst
GEO:48.132709;11.5734764
X-APPLE-STRUCTURED-LOCATION;VALUE=URI;X-ADDRESS=Sub Müllerstraße 14 Müllerstraße 14 München Bayern 80469 Germany;X-APPLE-RADIUS=500;X-TITLE=Müllerstraße 14:geo:11.5734764,48.132709
END:VEVENT
BEGIN:VEVENT
DTSTART;TZID=Europe/Berlin:20260605T193000
DTEND;TZID=Europe/Berlin:20260605T213000
DTSTAMP:20260426T021911
CREATED:20260307T015625Z
LAST-MODIFIED:20260426T001557Z
UID:10048822-1780687800-1780695000@kalender.subonline.org
SUMMARY:QueerBw e.V. - Regio Süd
DESCRIPTION:
URL:https://kalender.subonline.org/event/queerbw-e-v-regio-sud/
LOCATION:Bayern
CATEGORIES:Events im Zentrum
END:VEVENT
BEGIN:VEVENT
DTSTART;TZID=Europe/Berlin:20260605T200000
DTEND;TZID=Europe/Berlin:20260605T223000
DTSTAMP:20260426T021911
CREATED:20260307T015625Z
LAST-MODIFIED:20260426T001557Z
UID:10048820-1780689600-1780698600@kalender.subonline.org
SUMMARY:VIVA TS Treffen
DESCRIPTION:
URL:https://kalender.subonline.org/event/viva-ts-treffen-26/
LOCATION:Bayern
CATEGORIES:Events im Zentrum
END:VEVENT
BEGIN:VEVENT
DTSTART;TZID=Europe/Berlin:20260606T200000
DTEND;TZID=Europe/Berlin:20260606T220000
DTSTAMP:20260426T021911
CREATED:20260308T001134Z
LAST-MODIFIED:20260426T001557Z
UID:10048824-1780776000-1780783200@kalender.subonline.org
SUMMARY:Vernissage Stephan Pflaum
DESCRIPTION:
URL:https://kalender.subonline.org/event/vernissage-stephan-pflaum/
LOCATION:Bayern
CATEGORIES:Events im Zentrum
END:VEVENT
BEGIN:VEVENT
DTSTART;TZID=Europe/Berlin:20260606T200000
DTEND;TZID=Europe/Berlin:20260607T010000
DTSTAMP:20260426T021911
CREATED:20260308T001123Z
LAST-MODIFIED:20260425T192919Z
UID:10048823-1780776000-1780794000@kalender.subonline.org
SUMMARY:Sub-Woofer: NN\, NN\, NN\, NN\, NN
DESCRIPTION:
URL:https://kalender.subonline.org/event/sub-woofer-nn-nn-nn-nn-nn-2/
LOCATION:Sub\, Müllerstraße 14\, Müllerstraße 14\, München\, Bayern\, 80469\, Germany
CATEGORIES:Thekendienst
GEO:48.132709;11.5734764
X-APPLE-STRUCTURED-LOCATION;VALUE=URI;X-ADDRESS=Sub Müllerstraße 14 Müllerstraße 14 München Bayern 80469 Germany;X-APPLE-RADIUS=500;X-TITLE=Müllerstraße 14:geo:11.5734764,48.132709
END:VEVENT
BEGIN:VEVENT
DTSTART;TZID=Europe/Berlin:20260606T200000
DTEND;TZID=Europe/Berlin:20260607T010000
DTSTAMP:20260426T021911
CREATED:20260308T005605Z
LAST-MODIFIED:20260425T220204Z
UID:10048825-1780776000-1780794000@kalender.subonline.org
SUMMARY:Marius (Timon)
DESCRIPTION:
URL:https://kalender.subonline.org/event/nn-25/
LOCATION:Sub\, Müllerstraße 14\, Müllerstraße 14\, München\, Bayern\, 80469\, Germany
CATEGORIES:Café-Manager
GEO:48.132709;11.5734764
X-APPLE-STRUCTURED-LOCATION;VALUE=URI;X-ADDRESS=Sub Müllerstraße 14 Müllerstraße 14 München Bayern 80469 Germany;X-APPLE-RADIUS=500;X-TITLE=Müllerstraße 14:geo:11.5734764,48.132709
END:VEVENT
BEGIN:VEVENT
DTSTART;TZID=Europe/Berlin:20260607T150000
DTEND;TZID=Europe/Berlin:20260607T190000
DTSTAMP:20260426T021911
CREATED:20260309T005827Z
LAST-MODIFIED:20260425T192919Z
UID:10048827-1780844400-1780858800@kalender.subonline.org
SUMMARY:Sylvia R.\, Tobi P.\, Wolfgang I.
DESCRIPTION:Kaffee und Kuchen
URL:https://kalender.subonline.org/event/nn-nn-nn-64/
LOCATION:Sub\, Müllerstraße 14\, Müllerstraße 14\, München\, Bayern\, 80469\, Germany
CATEGORIES:Thekendienst
GEO:48.132709;11.5734764
X-APPLE-STRUCTURED-LOCATION;VALUE=URI;X-ADDRESS=Sub Müllerstraße 14 Müllerstraße 14 München Bayern 80469 Germany;X-APPLE-RADIUS=500;X-TITLE=Müllerstraße 14:geo:11.5734764,48.132709
END:VEVENT
BEGIN:VEVENT
DTSTART;TZID=Europe/Berlin:20260607T150000
DTEND;TZID=Europe/Berlin:20260607T190000
DTSTAMP:20260426T021911
CREATED:20260309T005837Z
LAST-MODIFIED:20260426T001651Z
UID:10048828-1780844400-1780858800@kalender.subonline.org
SUMMARY:Kaffee & Kuchen
DESCRIPTION:Kaffee & Kuchen (am 1. und 3. Sonntag im Monat)
URL:https://kalender.subonline.org/event/kaffee-kuchen-16/
LOCATION:Sub – Schwules Kommunikations- und Kulturzentrum München e.V.\, Müllerstraße 14\, 80469 München\, Deutschland\, Müllerstraße 14\, München\, Bayern\, 80469\, Germany
CATEGORIES:Events im Zentrum
GEO:48.132709;11.5734764
X-APPLE-STRUCTURED-LOCATION;VALUE=URI;X-ADDRESS=Sub – Schwules Kommunikations- und Kulturzentrum München e.V. Müllerstraße 14 80469 München Deutschland Müllerstraße 14 München Bayern 80469 Germany;X-APPLE-RADIUS=500;X-TITLE=Müllerstraße 14:geo:11.5734764,48.132709
END:VEVENT
BEGIN:VEVENT
DTSTART;TZID=Europe/Berlin:20260607T150000
DTEND;TZID=Europe/Berlin:20260607T190000
DTSTAMP:20260426T021911
CREATED:20260309T022629Z
LAST-MODIFIED:20260425T220205Z
UID:10048830-1780844400-1780858800@kalender.subonline.org
SUMMARY:Stephan W.
DESCRIPTION:Kaffee und Kuchen
URL:https://kalender.subonline.org/event/nn-188/
LOCATION:Sub\, Müllerstraße 14\, Müllerstraße 14\, München\, Bayern\, 80469\, Germany
CATEGORIES:Café-Manager
GEO:48.132709;11.5734764
X-APPLE-STRUCTURED-LOCATION;VALUE=URI;X-ADDRESS=Sub Müllerstraße 14 Müllerstraße 14 München Bayern 80469 Germany;X-APPLE-RADIUS=500;X-TITLE=Müllerstraße 14:geo:11.5734764,48.132709
END:VEVENT
BEGIN:VEVENT
DTSTART;TZID=Europe/Berlin:20260607T190000
DTEND;TZID=Europe/Berlin:20260607T230000
DTSTAMP:20260426T021911
CREATED:20260309T005827Z
LAST-MODIFIED:20260425T192919Z
UID:10048826-1780858800-1780873200@kalender.subonline.org
SUMMARY:RainbowRefugees: Johary S.\, NN\, NN
DESCRIPTION:
URL:https://kalender.subonline.org/event/rainbowrefugees-nn-nn-nn-6/
LOCATION:Sub\, Müllerstraße 14\, Müllerstraße 14\, München\, Bayern\, 80469\, Germany
CATEGORIES:Thekendienst
GEO:48.132709;11.5734764
X-APPLE-STRUCTURED-LOCATION;VALUE=URI;X-ADDRESS=Sub Müllerstraße 14 Müllerstraße 14 München Bayern 80469 Germany;X-APPLE-RADIUS=500;X-TITLE=Müllerstraße 14:geo:11.5734764,48.132709
END:VEVENT
BEGIN:VEVENT
DTSTART;TZID=Europe/Berlin:20260607T190000
DTEND;TZID=Europe/Berlin:20260607T230000
DTSTAMP:20260426T021911
CREATED:20260309T022629Z
LAST-MODIFIED:20260425T220205Z
UID:10048829-1780858800-1780873200@kalender.subonline.org
SUMMARY:Tovja W.
DESCRIPTION:
URL:https://kalender.subonline.org/event/nn-26/
LOCATION:Sub\, Müllerstraße 14\, Müllerstraße 14\, München\, Bayern\, 80469\, Germany
CATEGORIES:Café-Manager
GEO:48.132709;11.5734764
X-APPLE-STRUCTURED-LOCATION;VALUE=URI;X-ADDRESS=Sub Müllerstraße 14 Müllerstraße 14 München Bayern 80469 Germany;X-APPLE-RADIUS=500;X-TITLE=Müllerstraße 14:geo:11.5734764,48.132709
END:VEVENT
BEGIN:VEVENT
DTSTART;TZID=Europe/Berlin:20260608T190000
DTEND;TZID=Europe/Berlin:20260608T230000
DTSTAMP:20260426T021911
CREATED:20260310T001156Z
LAST-MODIFIED:20260425T192920Z
UID:10048831-1780945200-1780959600@kalender.subonline.org
SUMMARY:Christoph L.\, Dominik R.\, Michael K.\, Ralph E.
DESCRIPTION:
URL:https://kalender.subonline.org/event/nn-nn-nn-nn-9/
LOCATION:Sub\, Müllerstraße 14\, Müllerstraße 14\, München\, Bayern\, 80469\, Germany
CATEGORIES:Thekendienst
GEO:48.132709;11.5734764
X-APPLE-STRUCTURED-LOCATION;VALUE=URI;X-ADDRESS=Sub Müllerstraße 14 Müllerstraße 14 München Bayern 80469 Germany;X-APPLE-RADIUS=500;X-TITLE=Müllerstraße 14:geo:11.5734764,48.132709
END:VEVENT
BEGIN:VEVENT
DTSTART;TZID=Europe/Berlin:20260608T190000
DTEND;TZID=Europe/Berlin:20260608T230000
DTSTAMP:20260426T021911
CREATED:20260310T002555Z
LAST-MODIFIED:20260425T220205Z
UID:10048832-1780945200-1780959600@kalender.subonline.org
SUMMARY:NN
DESCRIPTION:
URL:https://kalender.subonline.org/event/nn-27/
LOCATION:Sub\, Müllerstraße 14\, Müllerstraße 14\, München\, Bayern\, 80469\, Germany
CATEGORIES:Café-Manager
GEO:48.132709;11.5734764
X-APPLE-STRUCTURED-LOCATION;VALUE=URI;X-ADDRESS=Sub Müllerstraße 14 Müllerstraße 14 München Bayern 80469 Germany;X-APPLE-RADIUS=500;X-TITLE=Müllerstraße 14:geo:11.5734764,48.132709
END:VEVENT
BEGIN:VEVENT
DTSTART;TZID=Europe/Berlin:20260609T190000
DTEND;TZID=Europe/Berlin:20260609T230000
DTSTAMP:20260426T021911
CREATED:20260311T001252Z
LAST-MODIFIED:20260425T193013Z
UID:10048833-1781031600-1781046000@kalender.subonline.org
SUMMARY:Marc L.\, Sascha E.\, NN
DESCRIPTION:
URL:https://kalender.subonline.org/event/nn-nn-nn-53/
LOCATION:Sub\, Müllerstraße 14\, Müllerstraße 14\, München\, Bayern\, 80469\, Germany
CATEGORIES:Thekendienst
GEO:48.132709;11.5734764
X-APPLE-STRUCTURED-LOCATION;VALUE=URI;X-ADDRESS=Sub Müllerstraße 14 Müllerstraße 14 München Bayern 80469 Germany;X-APPLE-RADIUS=500;X-TITLE=Müllerstraße 14:geo:11.5734764,48.132709
END:VEVENT
BEGIN:VEVENT
DTSTART;TZID=Europe/Berlin:20260609T190000
DTEND;TZID=Europe/Berlin:20260609T230000
DTSTAMP:20260426T021911
CREATED:20260311T004054Z
LAST-MODIFIED:20260425T220205Z
UID:10048835-1781031600-1781046000@kalender.subonline.org
SUMMARY:NN
DESCRIPTION:
URL:https://kalender.subonline.org/event/nn-136/
LOCATION:Sub\, Müllerstraße 14\, Müllerstraße 14\, München\, Bayern\, 80469\, Germany
CATEGORIES:Café-Manager
GEO:48.132709;11.5734764
X-APPLE-STRUCTURED-LOCATION;VALUE=URI;X-ADDRESS=Sub Müllerstraße 14 Müllerstraße 14 München Bayern 80469 Germany;X-APPLE-RADIUS=500;X-TITLE=Müllerstraße 14:geo:11.5734764,48.132709
END:VEVENT
BEGIN:VEVENT
DTSTART;TZID=Europe/Berlin:20260609T193000
DTEND;TZID=Europe/Berlin:20260609T210000
DTSTAMP:20260426T021911
CREATED:20260311T002531Z
LAST-MODIFIED:20260426T001651Z
UID:10048834-1781033400-1781038800@kalender.subonline.org
SUMMARY:Gruppe für schwule/bisexuelle Männer* mit Depressions- und Burnouterfahrung
DESCRIPTION:
URL:https://kalender.subonline.org/event/gruppe-fur-schwule-bisexuelle-manner-mit-depressions-und-burnouterfahrung-19/
LOCATION:Bayern
CATEGORIES:Events im Zentrum
END:VEVENT
BEGIN:VEVENT
DTSTART;TZID=Europe/Berlin:20260610T190000
DTEND;TZID=Europe/Berlin:20260610T203000
DTSTAMP:20260426T021911
CREATED:20260312T005652Z
LAST-MODIFIED:20260426T001651Z
UID:10048842-1781118000-1781123400@kalender.subonline.org
SUMMARY:Post-Chemsex-Gruppe
DESCRIPTION:
URL:https://kalender.subonline.org/event/post-chemsex-gruppe-17/
LOCATION:Bayern
CATEGORIES:Events im Zentrum
END:VEVENT
BEGIN:VEVENT
DTSTART;TZID=Europe/Berlin:20260610T190000
DTEND;TZID=Europe/Berlin:20260610T220000
DTSTAMP:20260426T021911
CREATED:20260312T005652Z
LAST-MODIFIED:20260426T001709Z
UID:10048839-1781118000-1781128800@kalender.subonline.org
SUMMARY:Schach im Sub
DESCRIPTION:
URL:https://kalender.subonline.org/event/schach-im-sub-39/
LOCATION:Bayern
CATEGORIES:Events im Zentrum
END:VEVENT
BEGIN:VEVENT
DTSTART;TZID=Europe/Berlin:20260610T190000
DTEND;TZID=Europe/Berlin:20260610T230000
DTSTAMP:20260426T021911
CREATED:20260312T001039Z
LAST-MODIFIED:20260425T193014Z
UID:10048836-1781118000-1781132400@kalender.subonline.org
SUMMARY:Lizzy & Lezzy on board: Birgit M.\, Doro D.\, Ina W.\, Sebastian H.
DESCRIPTION:
URL:https://kalender.subonline.org/event/nn-nn-nn-66/
LOCATION:Sub\, Müllerstraße 14\, Müllerstraße 14\, München\, Bayern\, 80469\, Germany
CATEGORIES:Thekendienst
GEO:48.132709;11.5734764
X-APPLE-STRUCTURED-LOCATION;VALUE=URI;X-ADDRESS=Sub Müllerstraße 14 Müllerstraße 14 München Bayern 80469 Germany;X-APPLE-RADIUS=500;X-TITLE=Müllerstraße 14:geo:11.5734764,48.132709
END:VEVENT
BEGIN:VEVENT
DTSTART;TZID=Europe/Berlin:20260610T190000
DTEND;TZID=Europe/Berlin:20260610T230000
DTSTAMP:20260426T021911
CREATED:20260312T002643Z
LAST-MODIFIED:20260425T220212Z
UID:10048837-1781118000-1781132400@kalender.subonline.org
SUMMARY:René K.
DESCRIPTION:
URL:https://kalender.subonline.org/event/nn-146/
LOCATION:Sub\, Müllerstraße 14\, Müllerstraße 14\, München\, Bayern\, 80469\, Germany
CATEGORIES:Café-Manager
GEO:48.132709;11.5734764
X-APPLE-STRUCTURED-LOCATION;VALUE=URI;X-ADDRESS=Sub Müllerstraße 14 Müllerstraße 14 München Bayern 80469 Germany;X-APPLE-RADIUS=500;X-TITLE=Müllerstraße 14:geo:11.5734764,48.132709
END:VEVENT
END:VCALENDAR