BEGIN:VCALENDAR
VERSION:2.0
PRODID:-//Kalender - Sub e.V. - ECPv6.15.20//NONSGML v1.0//EN
CALSCALE:GREGORIAN
METHOD:PUBLISH
X-WR-CALNAME:Kalender - Sub e.V.
X-ORIGINAL-URL:https://kalender.subonline.org
X-WR-CALDESC:Events for Kalender - Sub e.V.
REFRESH-INTERVAL;VALUE=DURATION:PT1H
X-Robots-Tag:noindex
X-PUBLISHED-TTL:PT1H
BEGIN:VTIMEZONE
TZID:Europe/Berlin
BEGIN:DAYLIGHT
TZOFFSETFROM:+0100
TZOFFSETTO:+0200
TZNAME:CEST
DTSTART:20250330T010000
END:DAYLIGHT
BEGIN:STANDARD
TZOFFSETFROM:+0200
TZOFFSETTO:+0100
TZNAME:CET
DTSTART:20251026T010000
END:STANDARD
BEGIN:DAYLIGHT
TZOFFSETFROM:+0100
TZOFFSETTO:+0200
TZNAME:CEST
DTSTART:20260329T010000
END:DAYLIGHT
BEGIN:STANDARD
TZOFFSETFROM:+0200
TZOFFSETTO:+0100
TZNAME:CET
DTSTART:20261025T010000
END:STANDARD
BEGIN:DAYLIGHT
TZOFFSETFROM:+0100
TZOFFSETTO:+0200
TZNAME:CEST
DTSTART:20270328T010000
END:DAYLIGHT
BEGIN:STANDARD
TZOFFSETFROM:+0200
TZOFFSETTO:+0100
TZNAME:CET
DTSTART:20271031T010000
END:STANDARD
END:VTIMEZONE
BEGIN:VEVENT
DTSTART;TZID=Europe/Berlin:20260716T200000
DTEND;TZID=Europe/Berlin:20260716T230000
DTSTAMP:20260425T190717
CREATED:20260417T045223Z
LAST-MODIFIED:20260425T143732Z
UID:10048996-1784232000-1784242800@kalender.subonline.org
SUMMARY:Cercle Francais
DESCRIPTION:
URL:https://kalender.subonline.org/event/cercle-francais-31/
LOCATION:Bayern
CATEGORIES:Events im Zentrum
END:VEVENT
BEGIN:VEVENT
DTSTART;TZID=Europe/Berlin:20260717T190000
DTEND;TZID=Europe/Berlin:20260718T000000
DTSTAMP:20260425T190717
CREATED:20260418T002956Z
LAST-MODIFIED:20260425T161941Z
UID:10049003-1784314800-1784332800@kalender.subonline.org
SUMMARY:Positive Theke: NN\, NN\, NN\, NN\, NN
DESCRIPTION:
URL:https://kalender.subonline.org/event/positive-theke-nn-nn-nn-nn-nn-4/
LOCATION:Sub\, Müllerstraße 14\, Müllerstraße 14\, München\, Bayern\, 80469\, Germany
CATEGORIES:Thekendienst
GEO:48.132709;11.5734764
X-APPLE-STRUCTURED-LOCATION;VALUE=URI;X-ADDRESS=Sub Müllerstraße 14 Müllerstraße 14 München Bayern 80469 Germany;X-APPLE-RADIUS=500;X-TITLE=Müllerstraße 14:geo:11.5734764,48.132709
END:VEVENT
BEGIN:VEVENT
DTSTART;TZID=Europe/Berlin:20260717T190000
DTEND;TZID=Europe/Berlin:20260718T000000
DTSTAMP:20260425T190717
CREATED:20260418T005017Z
LAST-MODIFIED:20260425T165254Z
UID:10049004-1784314800-1784332800@kalender.subonline.org
SUMMARY:NN
DESCRIPTION:
URL:https://kalender.subonline.org/event/nn-164/
LOCATION:Sub\, Müllerstraße 14\, Müllerstraße 14\, München\, Bayern\, 80469\, Germany
CATEGORIES:Café-Manager
GEO:48.132709;11.5734764
X-APPLE-STRUCTURED-LOCATION;VALUE=URI;X-ADDRESS=Sub Müllerstraße 14 Müllerstraße 14 München Bayern 80469 Germany;X-APPLE-RADIUS=500;X-TITLE=Müllerstraße 14:geo:11.5734764,48.132709
END:VEVENT
BEGIN:VEVENT
DTSTART;TZID=Europe/Berlin:20260717T193000
DTEND;TZID=Europe/Berlin:20260717T210000
DTSTAMP:20260425T190717
CREATED:20260418T023750Z
LAST-MODIFIED:20260425T143752Z
UID:10049006-1784316600-1784322000@kalender.subonline.org
SUMMARY:Queere Lehrkräfte Bayern
DESCRIPTION:
URL:https://kalender.subonline.org/event/queere-lehrkrafte-bayern-3/
LOCATION:Bayern
CATEGORIES:Events im Zentrum
END:VEVENT
BEGIN:VEVENT
DTSTART;TZID=Europe/Berlin:20260717T200000
DTEND;TZID=Europe/Berlin:20260717T223000
DTSTAMP:20260425T190717
CREATED:20260418T023750Z
LAST-MODIFIED:20260425T143752Z
UID:10049005-1784318400-1784327400@kalender.subonline.org
SUMMARY:VIVA TS Treffen
DESCRIPTION:
URL:https://kalender.subonline.org/event/viva-ts-treffen-33/
LOCATION:Bayern
CATEGORIES:Events im Zentrum
END:VEVENT
BEGIN:VEVENT
DTSTART;TZID=Europe/Berlin:20260718T200000
DTEND;TZID=Europe/Berlin:20260719T010000
DTSTAMP:20260425T190717
CREATED:20260419T001626Z
LAST-MODIFIED:20260425T161941Z
UID:10049007-1784404800-1784422800@kalender.subonline.org
SUMMARY:Drink'n Drag: NN\, NN\, NN\, NN\, NN
DESCRIPTION:
URL:https://kalender.subonline.org/event/drinkn-drag-nn-nn-nn-nn-nn/
LOCATION:Sub\, Müllerstraße 14\, Müllerstraße 14\, München\, Bayern\, 80469\, Germany
CATEGORIES:Thekendienst
GEO:48.132709;11.5734764
X-APPLE-STRUCTURED-LOCATION;VALUE=URI;X-ADDRESS=Sub Müllerstraße 14 Müllerstraße 14 München Bayern 80469 Germany;X-APPLE-RADIUS=500;X-TITLE=Müllerstraße 14:geo:11.5734764,48.132709
END:VEVENT
BEGIN:VEVENT
DTSTART;TZID=Europe/Berlin:20260718T200000
DTEND;TZID=Europe/Berlin:20260719T010000
DTSTAMP:20260425T190717
CREATED:20260419T004706Z
LAST-MODIFIED:20260425T165254Z
UID:10049008-1784404800-1784422800@kalender.subonline.org
SUMMARY:NN
DESCRIPTION:
URL:https://kalender.subonline.org/event/nn-165/
LOCATION:Sub\, Müllerstraße 14\, Müllerstraße 14\, München\, Bayern\, 80469\, Germany
CATEGORIES:Café-Manager
GEO:48.132709;11.5734764
X-APPLE-STRUCTURED-LOCATION;VALUE=URI;X-ADDRESS=Sub Müllerstraße 14 Müllerstraße 14 München Bayern 80469 Germany;X-APPLE-RADIUS=500;X-TITLE=Müllerstraße 14:geo:11.5734764,48.132709
END:VEVENT
BEGIN:VEVENT
DTSTART;TZID=Europe/Berlin:20260719T150000
DTEND;TZID=Europe/Berlin:20260719T190000
DTSTAMP:20260425T190717
CREATED:20260420T003919Z
LAST-MODIFIED:20260425T143752Z
UID:10049016-1784473200-1784487600@kalender.subonline.org
SUMMARY:Kaffee & Kuchen
DESCRIPTION:Kaffee & Kuchen (am 1. und 3. Sonntag im Monat)
URL:https://kalender.subonline.org/event/kaffee-kuchen/
LOCATION:Sub – Schwules Kommunikations- und Kulturzentrum München e.V.\, Müllerstraße 14\, 80469 München\, Deutschland\, Müllerstraße 14\, München\, Bayern\, 80469\, Germany
CATEGORIES:Events im Zentrum
GEO:48.132709;11.5734764
X-APPLE-STRUCTURED-LOCATION;VALUE=URI;X-ADDRESS=Sub – Schwules Kommunikations- und Kulturzentrum München e.V. Müllerstraße 14 80469 München Deutschland Müllerstraße 14 München Bayern 80469 Germany;X-APPLE-RADIUS=500;X-TITLE=Müllerstraße 14:geo:11.5734764,48.132709
END:VEVENT
BEGIN:VEVENT
DTSTART;TZID=Europe/Berlin:20260719T150000
DTEND;TZID=Europe/Berlin:20260719T190000
DTSTAMP:20260425T190717
CREATED:20260420T004819Z
LAST-MODIFIED:20260425T165254Z
UID:10049017-1784473200-1784487600@kalender.subonline.org
SUMMARY:NN
DESCRIPTION:Kaffee und Kuchen
URL:https://kalender.subonline.org/event/nn-166/
LOCATION:Sub\, Müllerstraße 14\, Müllerstraße 14\, München\, Bayern\, 80469\, Germany
CATEGORIES:Café-Manager
GEO:48.132709;11.5734764
X-APPLE-STRUCTURED-LOCATION;VALUE=URI;X-ADDRESS=Sub Müllerstraße 14 Müllerstraße 14 München Bayern 80469 Germany;X-APPLE-RADIUS=500;X-TITLE=Müllerstraße 14:geo:11.5734764,48.132709
END:VEVENT
BEGIN:VEVENT
DTSTART;TZID=Europe/Berlin:20260719T150000
DTEND;TZID=Europe/Berlin:20260719T190000
DTSTAMP:20260425T190717
CREATED:20260420T005211Z
LAST-MODIFIED:20260425T162006Z
UID:10049020-1784473200-1784487600@kalender.subonline.org
SUMMARY:NN\, NN\, NN
DESCRIPTION:Kaffee und Kuchen
URL:https://kalender.subonline.org/event/nn-nn-nn-82/
LOCATION:Sub\, Müllerstraße 14\, Müllerstraße 14\, München\, Bayern\, 80469\, Germany
CATEGORIES:Thekendienst
GEO:48.132709;11.5734764
X-APPLE-STRUCTURED-LOCATION;VALUE=URI;X-ADDRESS=Sub Müllerstraße 14 Müllerstraße 14 München Bayern 80469 Germany;X-APPLE-RADIUS=500;X-TITLE=Müllerstraße 14:geo:11.5734764,48.132709
END:VEVENT
BEGIN:VEVENT
DTSTART;TZID=Europe/Berlin:20260719T170000
DTEND;TZID=Europe/Berlin:20260719T190000
DTSTAMP:20260425T190717
CREATED:20260420T003919Z
LAST-MODIFIED:20260425T143752Z
UID:10049015-1784480400-1784487600@kalender.subonline.org
SUMMARY:Yoga
DESCRIPTION:
URL:https://kalender.subonline.org/event/yoga-2/
LOCATION:Bayern
CATEGORIES:Events im Zentrum
END:VEVENT
BEGIN:VEVENT
DTSTART;TZID=Europe/Berlin:20260719T190000
DTEND;TZID=Europe/Berlin:20260719T230000
DTSTAMP:20260425T190717
CREATED:20260420T004821Z
LAST-MODIFIED:20260425T165321Z
UID:10049018-1784487600-1784502000@kalender.subonline.org
SUMMARY:NN
DESCRIPTION:
URL:https://kalender.subonline.org/event/nn-167/
LOCATION:Sub\, Müllerstraße 14\, Müllerstraße 14\, München\, Bayern\, 80469\, Germany
CATEGORIES:Café-Manager
GEO:48.132709;11.5734764
X-APPLE-STRUCTURED-LOCATION;VALUE=URI;X-ADDRESS=Sub Müllerstraße 14 Müllerstraße 14 München Bayern 80469 Germany;X-APPLE-RADIUS=500;X-TITLE=Müllerstraße 14:geo:11.5734764,48.132709
END:VEVENT
BEGIN:VEVENT
DTSTART;TZID=Europe/Berlin:20260719T190000
DTEND;TZID=Europe/Berlin:20260719T230000
DTSTAMP:20260425T190717
CREATED:20260420T005211Z
LAST-MODIFIED:20260425T162006Z
UID:10049019-1784487600-1784502000@kalender.subonline.org
SUMMARY:NN\, NN\, NN
DESCRIPTION:
URL:https://kalender.subonline.org/event/nn-nn-nn-24/
LOCATION:Sub\, Müllerstraße 14\, Müllerstraße 14\, München\, Bayern\, 80469\, Germany
CATEGORIES:Thekendienst
GEO:48.132709;11.5734764
X-APPLE-STRUCTURED-LOCATION;VALUE=URI;X-ADDRESS=Sub Müllerstraße 14 Müllerstraße 14 München Bayern 80469 Germany;X-APPLE-RADIUS=500;X-TITLE=Müllerstraße 14:geo:11.5734764,48.132709
END:VEVENT
BEGIN:VEVENT
DTSTART;TZID=Europe/Berlin:20260720T190000
DTEND;TZID=Europe/Berlin:20260720T230000
DTSTAMP:20260425T190717
CREATED:20260421T001731Z
LAST-MODIFIED:20260425T162007Z
UID:10049021-1784574000-1784588400@kalender.subonline.org
SUMMARY:Proud@SWM: NN\, NN\, NN\, NN
DESCRIPTION:
URL:https://kalender.subonline.org/event/proudswm-nn-nn-nn-nn-3/
LOCATION:Sub\, Müllerstraße 14\, Müllerstraße 14\, München\, Bayern\, 80469\, Germany
CATEGORIES:Thekendienst
GEO:48.132709;11.5734764
X-APPLE-STRUCTURED-LOCATION;VALUE=URI;X-ADDRESS=Sub Müllerstraße 14 Müllerstraße 14 München Bayern 80469 Germany;X-APPLE-RADIUS=500;X-TITLE=Müllerstraße 14:geo:11.5734764,48.132709
END:VEVENT
BEGIN:VEVENT
DTSTART;TZID=Europe/Berlin:20260720T190000
DTEND;TZID=Europe/Berlin:20260720T230000
DTSTAMP:20260425T190717
CREATED:20260421T010512Z
LAST-MODIFIED:20260425T165321Z
UID:10049022-1784574000-1784588400@kalender.subonline.org
SUMMARY:NN
DESCRIPTION:
URL:https://kalender.subonline.org/event/nn-168/
LOCATION:Sub\, Müllerstraße 14\, Müllerstraße 14\, München\, Bayern\, 80469\, Germany
CATEGORIES:Café-Manager
GEO:48.132709;11.5734764
X-APPLE-STRUCTURED-LOCATION;VALUE=URI;X-ADDRESS=Sub Müllerstraße 14 Müllerstraße 14 München Bayern 80469 Germany;X-APPLE-RADIUS=500;X-TITLE=Müllerstraße 14:geo:11.5734764,48.132709
END:VEVENT
BEGIN:VEVENT
DTSTART;TZID=Europe/Berlin:20260721T190000
DTEND;TZID=Europe/Berlin:20260721T230000
DTSTAMP:20260425T190717
CREATED:20260422T001721Z
LAST-MODIFIED:20260425T162007Z
UID:10049023-1784660400-1784674800@kalender.subonline.org
SUMMARY:NN\, NN\, NN
DESCRIPTION:
URL:https://kalender.subonline.org/event/nn-nn-nn-35/
LOCATION:Sub\, Müllerstraße 14\, Müllerstraße 14\, München\, Bayern\, 80469\, Germany
CATEGORIES:Thekendienst
GEO:48.132709;11.5734764
X-APPLE-STRUCTURED-LOCATION;VALUE=URI;X-ADDRESS=Sub Müllerstraße 14 Müllerstraße 14 München Bayern 80469 Germany;X-APPLE-RADIUS=500;X-TITLE=Müllerstraße 14:geo:11.5734764,48.132709
END:VEVENT
BEGIN:VEVENT
DTSTART;TZID=Europe/Berlin:20260721T190000
DTEND;TZID=Europe/Berlin:20260721T230000
DTSTAMP:20260425T190717
CREATED:20260422T003558Z
LAST-MODIFIED:20260425T165321Z
UID:10049024-1784660400-1784674800@kalender.subonline.org
SUMMARY:NN
DESCRIPTION:
URL:https://kalender.subonline.org/event/nn-169/
LOCATION:Sub\, Müllerstraße 14\, Müllerstraße 14\, München\, Bayern\, 80469\, Germany
CATEGORIES:Café-Manager
GEO:48.132709;11.5734764
X-APPLE-STRUCTURED-LOCATION;VALUE=URI;X-ADDRESS=Sub Müllerstraße 14 Müllerstraße 14 München Bayern 80469 Germany;X-APPLE-RADIUS=500;X-TITLE=Müllerstraße 14:geo:11.5734764,48.132709
END:VEVENT
BEGIN:VEVENT
DTSTART;TZID=Europe/Berlin:20260721T193000
DTEND;TZID=Europe/Berlin:20260721T200000
DTSTAMP:20260425T190717
CREATED:20260422T010539Z
LAST-MODIFIED:20260425T143831Z
UID:10049025-1784662200-1784664000@kalender.subonline.org
SUMMARY:Sub+ (mit Voranmeldung)
DESCRIPTION:Plus im SubEin Angebot für positive Männer nach Voranmeldung unter subplusgruppe@subonline.org Das Münchner Schwulenzentrum hat auch eine Gruppe für positive Männer im Programm. SubPlus bietet Freizeit und Beratung. \nPositiv im Sub. Jeden ersten und dritten Dienstag im Monat kommt im Münchner Schwulenzentrum die SubPlusGruppe zusammen. Schau vorbei! Wir treffen uns in der Müllerstraße 14\, tauschen uns aus\, diskutieren auch mal fachliche Fragen und können – falls nötig – auf ein kompetentes Beraternetzwerk zurückgreifen. Das Sub weiß Bescheid und arbeitet ja außerdem eng mit der Münchner Aids-Hilfe zusammen. \nJan Geiger betreut die Gruppe. Er leitet das Projekt Prävention im Sub. \nDiskretion und VertrauenFreizeit kommt nicht zu kurz. Wir planen gemeinsam unsere Aktivitäten. Was passiert\, bestimmst Du. Selbstverständlich bleiben wir dabei diskret\, denn bei uns soll sich jeder wohlfühlen. Melde Dich!
URL:https://kalender.subonline.org/event/sub-mit-voranmeldung-10/
LOCATION:Bayern
CATEGORIES:Events im Zentrum
END:VEVENT
BEGIN:VEVENT
DTSTART;TZID=Europe/Berlin:20260721T193000
DTEND;TZID=Europe/Berlin:20260721T210000
DTSTAMP:20260425T190717
CREATED:20260422T010539Z
LAST-MODIFIED:20260425T143830Z
UID:10049026-1784662200-1784667600@kalender.subonline.org
SUMMARY:Gruppe für schwule/bisexuelle Männer* mit Depressions- und Burnouterfahrung
DESCRIPTION:
URL:https://kalender.subonline.org/event/gruppe-fur-schwule-bisexuelle-manner-mit-depressions-und-burnouterfahrung-23/
LOCATION:Bayern
CATEGORIES:Events im Zentrum
END:VEVENT
BEGIN:VEVENT
DTSTART;TZID=Europe/Berlin:20260721T193000
DTEND;TZID=Europe/Berlin:20260721T223000
DTSTAMP:20260425T190717
CREATED:20260422T010539Z
LAST-MODIFIED:20260425T143831Z
UID:10049027-1784662200-1784673000@kalender.subonline.org
SUMMARY:Munich Kiev Queer
DESCRIPTION:
URL:https://kalender.subonline.org/event/munich-kiev-queer-11/
LOCATION:Sub – Schwules Kommunikations- und Kulturzentrum München e.V.\, Müllerstraße 14\, 80469 München\, Deutschland\, Müllerstraße 14\, München\, Bayern\, 80469\, Germany
CATEGORIES:Events im Zentrum
GEO:48.132709;11.5734764
X-APPLE-STRUCTURED-LOCATION;VALUE=URI;X-ADDRESS=Sub – Schwules Kommunikations- und Kulturzentrum München e.V. Müllerstraße 14 80469 München Deutschland Müllerstraße 14 München Bayern 80469 Germany;X-APPLE-RADIUS=500;X-TITLE=Müllerstraße 14:geo:11.5734764,48.132709
END:VEVENT
BEGIN:VEVENT
DTSTART;TZID=Europe/Berlin:20260722T190000
DTEND;TZID=Europe/Berlin:20260722T203000
DTSTAMP:20260425T190717
CREATED:20260423T002012Z
LAST-MODIFIED:20260425T144010Z
UID:10049030-1784746800-1784752200@kalender.subonline.org
SUMMARY:Post-Chemsex-Gruppe
DESCRIPTION:
URL:https://kalender.subonline.org/event/post-chemsex-gruppe-16/
LOCATION:Bayern
CATEGORIES:Events im Zentrum
END:VEVENT
BEGIN:VEVENT
DTSTART;TZID=Europe/Berlin:20260722T190000
DTEND;TZID=Europe/Berlin:20260722T210000
DTSTAMP:20260425T190717
CREATED:20260423T002012Z
LAST-MODIFIED:20260425T144010Z
UID:10049029-1784746800-1784754000@kalender.subonline.org
SUMMARY:Queer Uferlos Redaktion
DESCRIPTION:
URL:https://kalender.subonline.org/event/queer-uferlos-redaktion-9/
LOCATION:Bayern
CATEGORIES:Events im Zentrum
END:VEVENT
BEGIN:VEVENT
DTSTART;TZID=Europe/Berlin:20260722T190000
DTEND;TZID=Europe/Berlin:20260722T220000
DTSTAMP:20260425T190717
CREATED:20260423T002017Z
LAST-MODIFIED:20260425T144010Z
UID:10049031-1784746800-1784757600@kalender.subonline.org
SUMMARY:Schach im Sub
DESCRIPTION:
URL:https://kalender.subonline.org/event/schach-im-sub-2/
LOCATION:Bayern
CATEGORIES:Events im Zentrum
END:VEVENT
BEGIN:VEVENT
DTSTART;TZID=Europe/Berlin:20260722T190000
DTEND;TZID=Europe/Berlin:20260722T230000
DTSTAMP:20260425T190717
CREATED:20260423T001606Z
LAST-MODIFIED:20260425T162007Z
UID:10049028-1784746800-1784761200@kalender.subonline.org
SUMMARY:queerGottesdienst München: NN\, NN\, NN
DESCRIPTION:
URL:https://kalender.subonline.org/event/queergottesdienst-munchen-nn-nn-nn-3/
LOCATION:Sub\, Müllerstraße 14\, Müllerstraße 14\, München\, Bayern\, 80469\, Germany
CATEGORIES:Thekendienst
GEO:48.132709;11.5734764
X-APPLE-STRUCTURED-LOCATION;VALUE=URI;X-ADDRESS=Sub Müllerstraße 14 Müllerstraße 14 München Bayern 80469 Germany;X-APPLE-RADIUS=500;X-TITLE=Müllerstraße 14:geo:11.5734764,48.132709
END:VEVENT
BEGIN:VEVENT
DTSTART;TZID=Europe/Berlin:20260722T190000
DTEND;TZID=Europe/Berlin:20260722T230000
DTSTAMP:20260425T190717
CREATED:20260423T002149Z
LAST-MODIFIED:20260425T165321Z
UID:10049034-1784746800-1784761200@kalender.subonline.org
SUMMARY:NN
DESCRIPTION:
URL:https://kalender.subonline.org/event/nn-170/
LOCATION:Sub\, Müllerstraße 14\, Müllerstraße 14\, München\, Bayern\, 80469\, Germany
CATEGORIES:Café-Manager
GEO:48.132709;11.5734764
X-APPLE-STRUCTURED-LOCATION;VALUE=URI;X-ADDRESS=Sub Müllerstraße 14 Müllerstraße 14 München Bayern 80469 Germany;X-APPLE-RADIUS=500;X-TITLE=Müllerstraße 14:geo:11.5734764,48.132709
END:VEVENT
BEGIN:VEVENT
DTSTART;TZID=Europe/Berlin:20260722T193000
DTEND;TZID=Europe/Berlin:20260722T210000
DTSTAMP:20260425T190717
CREATED:20260423T002017Z
LAST-MODIFIED:20260425T143831Z
UID:10049033-1784748600-1784754000@kalender.subonline.org
SUMMARY:SAB
DESCRIPTION:In der Selbsthilfegruppe Schwule\, bisexuelle und queere Männer mit Alkoholabhängigkeit haben wir die Möglichkeit uns mit anderen betroffenen Männern austauschen. Durch das Teilen von wertvollen Erfahrungen und eigenen kreativen Ideen können wir uns gegenseitig unterstützen und mehr Lebensqualität erreichen. Du musst es nicht schon komplett geschafft haben\, trocken oder kontrolliert zu sein. \nDie Gruppe findet in Kooperation mit dem Blauen Kreuz München e.V. statt. . \nWann: Die Gruppe trifft sich Mittwochs immer um 19.30.Es ist keine Voranmeldung nötig.
URL:https://kalender.subonline.org/event/sab-32/
LOCATION:Bayern
CATEGORIES:Events im Zentrum
END:VEVENT
BEGIN:VEVENT
DTSTART;TZID=Europe/Berlin:20260722T193000
DTEND;TZID=Europe/Berlin:20260722T223000
DTSTAMP:20260425T190717
CREATED:20260423T002017Z
LAST-MODIFIED:20260425T143831Z
UID:10049032-1784748600-1784759400@kalender.subonline.org
SUMMARY:Brettspielgruppe
DESCRIPTION:
URL:https://kalender.subonline.org/event/brettspielgruppe-2/
LOCATION:Bayern
CATEGORIES:Events im Zentrum
END:VEVENT
BEGIN:VEVENT
DTSTART;TZID=Europe/Berlin:20260723T190000
DTEND;TZID=Europe/Berlin:20260723T230000
DTSTAMP:20260425T190717
CREATED:20260424T040835Z
LAST-MODIFIED:20260425T162036Z
UID:10049035-1784833200-1784847600@kalender.subonline.org
SUMMARY:Rainbow Sound of Orchestra: NN\, NN\, NN\, NN
DESCRIPTION:
URL:https://kalender.subonline.org/event/rainbow-sound-of-orchestra-nn-nn-nn-nn/
LOCATION:Sub\, Müllerstraße 14\, Müllerstraße 14\, München\, Bayern\, 80469\, Germany
CATEGORIES:Thekendienst
GEO:48.132709;11.5734764
X-APPLE-STRUCTURED-LOCATION;VALUE=URI;X-ADDRESS=Sub Müllerstraße 14 Müllerstraße 14 München Bayern 80469 Germany;X-APPLE-RADIUS=500;X-TITLE=Müllerstraße 14:geo:11.5734764,48.132709
END:VEVENT
BEGIN:VEVENT
DTSTART;TZID=Europe/Berlin:20260723T190000
DTEND;TZID=Europe/Berlin:20260723T230000
DTSTAMP:20260425T190717
CREATED:20260424T044921Z
LAST-MODIFIED:20260425T165321Z
UID:10049036-1784833200-1784847600@kalender.subonline.org
SUMMARY:NN
DESCRIPTION:
URL:https://kalender.subonline.org/event/nn-171/
LOCATION:Sub\, Müllerstraße 14\, Müllerstraße 14\, München\, Bayern\, 80469\, Germany
CATEGORIES:Café-Manager
GEO:48.132709;11.5734764
X-APPLE-STRUCTURED-LOCATION;VALUE=URI;X-ADDRESS=Sub Müllerstraße 14 Müllerstraße 14 München Bayern 80469 Germany;X-APPLE-RADIUS=500;X-TITLE=Müllerstraße 14:geo:11.5734764,48.132709
END:VEVENT
BEGIN:VEVENT
DTSTART;TZID=Europe/Berlin:20260723T191500
DTEND;TZID=Europe/Berlin:20260723T221500
DTSTAMP:20260425T190717
CREATED:20260424T052523Z
LAST-MODIFIED:20260425T144010Z
UID:10049037-1784834100-1784844900@kalender.subonline.org
SUMMARY:Gay & Grey
DESCRIPTION:
URL:https://kalender.subonline.org/event/gay-grey-38/
LOCATION:Bayern
CATEGORIES:Events im Zentrum
END:VEVENT
END:VCALENDAR