BEGIN:VCALENDAR
VERSION:2.0
PRODID:-//Kalender - Sub e.V. - ECPv6.15.20//NONSGML v1.0//EN
CALSCALE:GREGORIAN
METHOD:PUBLISH
X-ORIGINAL-URL:https://kalender.subonline.org
X-WR-CALDESC:Events for Kalender - Sub e.V.
REFRESH-INTERVAL;VALUE=DURATION:PT1H
X-Robots-Tag:noindex
X-PUBLISHED-TTL:PT1H
BEGIN:VTIMEZONE
TZID:Europe/Berlin
BEGIN:DAYLIGHT
TZOFFSETFROM:+0100
TZOFFSETTO:+0200
TZNAME:CEST
DTSTART:20250330T010000
END:DAYLIGHT
BEGIN:STANDARD
TZOFFSETFROM:+0200
TZOFFSETTO:+0100
TZNAME:CET
DTSTART:20251026T010000
END:STANDARD
BEGIN:DAYLIGHT
TZOFFSETFROM:+0100
TZOFFSETTO:+0200
TZNAME:CEST
DTSTART:20260329T010000
END:DAYLIGHT
BEGIN:STANDARD
TZOFFSETFROM:+0200
TZOFFSETTO:+0100
TZNAME:CET
DTSTART:20261025T010000
END:STANDARD
BEGIN:DAYLIGHT
TZOFFSETFROM:+0100
TZOFFSETTO:+0200
TZNAME:CEST
DTSTART:20270328T010000
END:DAYLIGHT
BEGIN:STANDARD
TZOFFSETFROM:+0200
TZOFFSETTO:+0100
TZNAME:CET
DTSTART:20271031T010000
END:STANDARD
END:VTIMEZONE
BEGIN:VEVENT
DTSTART;TZID=Europe/Berlin:20260520T190000
DTEND;TZID=Europe/Berlin:20260520T203000
DTSTAMP:20260425T122406
CREATED:20260220T005620Z
LAST-MODIFIED:20260425T101424Z
UID:10048750-1779303600-1779309000@kalender.subonline.org
SUMMARY:Chemsex Control Gruppe
DESCRIPTION:Chemsex Control Gruppe \nDu willst zukünftig seltener Chems konsumieren oder möchtest in Zukunft ganz damit aufhören? Dann ist diese Gruppe für dich. Kontrollierter Konsum bzw. den Konsum zu reduzieren kann dir helfen\, dass trotz starker und risikoreicher Substanzen die Chems nicht die Oberhand über dein Leben gewinnen. \nDiese angeleitete Selbsthilfegruppe soll dir helfen herauszufinden\, wie du deinen Substanzgebrauch in geordnete Bahnen lenken\, Risiken minimieren und deinen Konsum zu reflektieren. \nDas Programm wurde speziell für Chemsex User entwickelt und beschäftigt sich mit den körperlichen\, sexuellen\, sozialen und Substanzbezogenen Veränderungen\, die Chemsex hervorbringen kann. \nEin vorheriges Beratungsgespräch ist für die Teilnahme notwendig. Komme einfach in die offene Sprechstunde oder buche Dir einen Beratungstermin. \nIn Partnerschaft mit: {quapsss}-Projekt der Deutschen Aidshilfe \nWann: Jeden zweiten Mittwoch um 19.00. Voranmeldung ist Voraussetzung zur Teilnahme.Kontakt: chems@subonline.org oder 089 856.346.401
URL:https://kalender.subonline.org/event/chemsex-control-gruppe-12/
LOCATION:Bayern
CATEGORIES:Events im Zentrum
END:VEVENT
BEGIN:VEVENT
DTSTART;TZID=Europe/Berlin:20260520T190000
DTEND;TZID=Europe/Berlin:20260520T210000
DTSTAMP:20260425T122406
CREATED:20260220T005620Z
LAST-MODIFIED:20260425T101424Z
UID:10048751-1779303600-1779310800@kalender.subonline.org
SUMMARY:Schafkopfen im Sub
DESCRIPTION:A Schelln ko’st ham. Und das im Sub. Unsere Schafkopfgruppe trifft sich jeden 1. und 3. Mittwoch im Monat im Café. Wer hat die Alte? Wer traut sich einen Wenz? Und ist jemand Schneider? Kein Kartenspiel ist so derb-bayerisch unterhaltsam.  Trau di. Wie’s geht\, ler‘ma scho…
URL:https://kalender.subonline.org/event/schafkopfen-im-sub-17/
LOCATION:Bayern
CATEGORIES:Events im Zentrum
END:VEVENT
BEGIN:VEVENT
DTSTART;TZID=Europe/Berlin:20260520T190000
DTEND;TZID=Europe/Berlin:20260520T220000
DTSTAMP:20260425T122406
CREATED:20260220T005620Z
LAST-MODIFIED:20260425T101352Z
UID:10048747-1779303600-1779314400@kalender.subonline.org
SUMMARY:Schach im Sub
DESCRIPTION:
URL:https://kalender.subonline.org/event/schach-im-sub-30/
LOCATION:Bayern
CATEGORIES:Events im Zentrum
END:VEVENT
BEGIN:VEVENT
DTSTART;TZID=Europe/Berlin:20260520T190000
DTEND;TZID=Europe/Berlin:20260520T230000
DTSTAMP:20260425T122406
CREATED:20260220T231152Z
LAST-MODIFIED:20260425T102405Z
UID:10048752-1779303600-1779318000@kalender.subonline.org
SUMMARY:MSD Rainbow Alliance: Bojana T.\, Lucas D.\, Monika S.
DESCRIPTION:
URL:https://kalender.subonline.org/event/msd-rainbow-alliance-nn-nn-nn-3/
LOCATION:Sub\, Müllerstraße 14\, Müllerstraße 14\, München\, Bayern\, 80469\, Germany
CATEGORIES:Thekendienst
GEO:48.132709;11.5734764
X-APPLE-STRUCTURED-LOCATION;VALUE=URI;X-ADDRESS=Sub Müllerstraße 14 Müllerstraße 14 München Bayern 80469 Germany;X-APPLE-RADIUS=500;X-TITLE=Müllerstraße 14:geo:11.5734764,48.132709
END:VEVENT
BEGIN:VEVENT
DTSTART;TZID=Europe/Berlin:20260520T190000
DTEND;TZID=Europe/Berlin:20260520T230000
DTSTAMP:20260425T122406
CREATED:20260220T231309Z
LAST-MODIFIED:20260425T094428Z
UID:10048753-1779303600-1779318000@kalender.subonline.org
SUMMARY:René K.
DESCRIPTION:
URL:https://kalender.subonline.org/event/nn-181/
LOCATION:Sub\, Müllerstraße 14\, Müllerstraße 14\, München\, Bayern\, 80469\, Germany
CATEGORIES:Café-Manager
GEO:48.132709;11.5734764
X-APPLE-STRUCTURED-LOCATION;VALUE=URI;X-ADDRESS=Sub Müllerstraße 14 Müllerstraße 14 München Bayern 80469 Germany;X-APPLE-RADIUS=500;X-TITLE=Müllerstraße 14:geo:11.5734764,48.132709
END:VEVENT
BEGIN:VEVENT
DTSTART;TZID=Europe/Berlin:20260520T193000
DTEND;TZID=Europe/Berlin:20260520T210000
DTSTAMP:20260425T122407
CREATED:20260220T005620Z
LAST-MODIFIED:20260425T101352Z
UID:10048746-1779305400-1779310800@kalender.subonline.org
SUMMARY:SAB
DESCRIPTION:In der Selbsthilfegruppe Schwule\, bisexuelle und queere Männer mit Alkoholabhängigkeit haben wir die Möglichkeit uns mit anderen betroffenen Männern austauschen. Durch das Teilen von wertvollen Erfahrungen und eigenen kreativen Ideen können wir uns gegenseitig unterstützen und mehr Lebensqualität erreichen. Du musst es nicht schon komplett geschafft haben\, trocken oder kontrolliert zu sein. \nDie Gruppe findet in Kooperation mit dem Blauen Kreuz München e.V. statt. . \nWann: Die Gruppe trifft sich Mittwochs immer um 19.30.Es ist keine Voranmeldung nötig.
URL:https://kalender.subonline.org/event/sab-33/
LOCATION:Bayern
CATEGORIES:Events im Zentrum
END:VEVENT
BEGIN:VEVENT
DTSTART;TZID=Europe/Berlin:20260520T193000
DTEND;TZID=Europe/Berlin:20260520T210000
DTSTAMP:20260425T122407
CREATED:20260220T005620Z
LAST-MODIFIED:20260425T101352Z
UID:10048749-1779305400-1779310800@kalender.subonline.org
SUMMARY:S'AG Gruppentreffen
DESCRIPTION:
URL:https://kalender.subonline.org/event/sag-gruppentreffen-10/
LOCATION:Bayern
CATEGORIES:Events im Zentrum
END:VEVENT
BEGIN:VEVENT
DTSTART;TZID=Europe/Berlin:20260520T193000
DTEND;TZID=Europe/Berlin:20260520T223000
DTSTAMP:20260425T122407
CREATED:20260220T005620Z
LAST-MODIFIED:20260425T101424Z
UID:10048748-1779305400-1779316200@kalender.subonline.org
SUMMARY:Brettspielgruppe
DESCRIPTION:
URL:https://kalender.subonline.org/event/brettspielgruppe-28/
LOCATION:Bayern
CATEGORIES:Events im Zentrum
END:VEVENT
BEGIN:VEVENT
DTSTART;TZID=Europe/Berlin:20260521T190000
DTEND;TZID=Europe/Berlin:20260521T220000
DTSTAMP:20260425T122407
CREATED:20260221T005647Z
LAST-MODIFIED:20260425T101424Z
UID:10048756-1779390000-1779400800@kalender.subonline.org
SUMMARY:Gay Alpin im DAV - Stammtisch
DESCRIPTION:
URL:https://kalender.subonline.org/event/gay-alpin-im-dav-stammtisch-6/
LOCATION:Bayern
CATEGORIES:Events im Zentrum
END:VEVENT
BEGIN:VEVENT
DTSTART;TZID=Europe/Berlin:20260521T190000
DTEND;TZID=Europe/Berlin:20260521T230000
DTSTAMP:20260425T122407
CREATED:20260221T232538Z
LAST-MODIFIED:20260425T102405Z
UID:10048758-1779390000-1779404400@kalender.subonline.org
SUMMARY:HighFlyNight: Karsten M.\, Thomas V.\, NN\, NN
DESCRIPTION:
URL:https://kalender.subonline.org/event/highflynight-nn-nn-nn-nn/
LOCATION:Sub\, Müllerstraße 14\, Müllerstraße 14\, München\, Bayern\, 80469\, Germany
CATEGORIES:Thekendienst
GEO:48.132709;11.5734764
X-APPLE-STRUCTURED-LOCATION;VALUE=URI;X-ADDRESS=Sub Müllerstraße 14 Müllerstraße 14 München Bayern 80469 Germany;X-APPLE-RADIUS=500;X-TITLE=Müllerstraße 14:geo:11.5734764,48.132709
END:VEVENT
BEGIN:VEVENT
DTSTART;TZID=Europe/Berlin:20260521T190000
DTEND;TZID=Europe/Berlin:20260521T230000
DTSTAMP:20260425T122407
CREATED:20260221T232559Z
LAST-MODIFIED:20260425T094428Z
UID:10048759-1779390000-1779404400@kalender.subonline.org
SUMMARY:Jörn V.
DESCRIPTION:
URL:https://kalender.subonline.org/event/nn-182/
LOCATION:Sub\, Müllerstraße 14\, Müllerstraße 14\, München\, Bayern\, 80469\, Germany
CATEGORIES:Café-Manager
GEO:48.132709;11.5734764
X-APPLE-STRUCTURED-LOCATION;VALUE=URI;X-ADDRESS=Sub Müllerstraße 14 Müllerstraße 14 München Bayern 80469 Germany;X-APPLE-RADIUS=500;X-TITLE=Müllerstraße 14:geo:11.5734764,48.132709
END:VEVENT
BEGIN:VEVENT
DTSTART;TZID=Europe/Berlin:20260521T191500
DTEND;TZID=Europe/Berlin:20260521T221500
DTSTAMP:20260425T122407
CREATED:20260221T005647Z
LAST-MODIFIED:20260425T101424Z
UID:10048755-1779390900-1779401700@kalender.subonline.org
SUMMARY:Gay & Grey
DESCRIPTION:
URL:https://kalender.subonline.org/event/gay-grey-23/
LOCATION:Bayern
CATEGORIES:Events im Zentrum
END:VEVENT
BEGIN:VEVENT
DTSTART;TZID=Europe/Berlin:20260521T193000
DTEND;TZID=Europe/Berlin:20260521T210000
DTSTAMP:20260425T122407
CREATED:20260221T005647Z
LAST-MODIFIED:20260425T101427Z
UID:10048754-1779391800-1779397200@kalender.subonline.org
SUMMARY:Deutsch Konversationskurs
DESCRIPTION:
URL:https://kalender.subonline.org/event/deutsch-konversationskurs-23/
LOCATION:Bayern
CATEGORIES:Events im Zentrum
END:VEVENT
BEGIN:VEVENT
DTSTART;TZID=Europe/Berlin:20260521T200000
DTEND;TZID=Europe/Berlin:20260521T230000
DTSTAMP:20260425T122407
CREATED:20260221T005647Z
LAST-MODIFIED:20260425T101427Z
UID:10048757-1779393600-1779404400@kalender.subonline.org
SUMMARY:Cercle Francais
DESCRIPTION:
URL:https://kalender.subonline.org/event/cercle-francais-21/
LOCATION:Bayern
CATEGORIES:Events im Zentrum
END:VEVENT
BEGIN:VEVENT
DTSTART;TZID=Europe/Berlin:20260522T190000
DTEND;TZID=Europe/Berlin:20260522T220000
DTSTAMP:20260425T122407
CREATED:20260222T001057Z
LAST-MODIFIED:20260425T101427Z
UID:10048760-1779476400-1779487200@kalender.subonline.org
SUMMARY:Queer Bipocs Munich
DESCRIPTION:
URL:https://kalender.subonline.org/event/queer-bipocs-munich-7/
LOCATION:Bayern
CATEGORIES:Events im Zentrum
END:VEVENT
BEGIN:VEVENT
DTSTART;TZID=Europe/Berlin:20260522T190000
DTEND;TZID=Europe/Berlin:20260523T000000
DTSTAMP:20260425T122407
CREATED:20260222T231101Z
LAST-MODIFIED:20260425T094428Z
UID:10048762-1779476400-1779494400@kalender.subonline.org
SUMMARY:NN
DESCRIPTION:
URL:https://kalender.subonline.org/event/nn-135/
LOCATION:Sub\, Müllerstraße 14\, Müllerstraße 14\, München\, Bayern\, 80469\, Germany
CATEGORIES:Café-Manager
GEO:48.132709;11.5734764
X-APPLE-STRUCTURED-LOCATION;VALUE=URI;X-ADDRESS=Sub Müllerstraße 14 Müllerstraße 14 München Bayern 80469 Germany;X-APPLE-RADIUS=500;X-TITLE=Müllerstraße 14:geo:11.5734764,48.132709
END:VEVENT
BEGIN:VEVENT
DTSTART;TZID=Europe/Berlin:20260522T190000
DTEND;TZID=Europe/Berlin:20260523T000000
DTSTAMP:20260425T122407
CREATED:20260222T232632Z
LAST-MODIFIED:20260425T092728Z
UID:10048763-1779476400-1779494400@kalender.subonline.org
SUMMARY:Queerpass Bayern: NN\, NN\, NN\, NN\, NN
DESCRIPTION:
URL:https://kalender.subonline.org/event/queerpass-bayern-nn-nn-nn-nn-nn-4/
LOCATION:Sub\, Müllerstraße 14\, Müllerstraße 14\, München\, Bayern\, 80469\, Germany
CATEGORIES:Thekendienst
GEO:48.132709;11.5734764
X-APPLE-STRUCTURED-LOCATION;VALUE=URI;X-ADDRESS=Sub Müllerstraße 14 Müllerstraße 14 München Bayern 80469 Germany;X-APPLE-RADIUS=500;X-TITLE=Müllerstraße 14:geo:11.5734764,48.132709
END:VEVENT
BEGIN:VEVENT
DTSTART;TZID=Europe/Berlin:20260522T200000
DTEND;TZID=Europe/Berlin:20260522T223000
DTSTAMP:20260425T122407
CREATED:20260222T001057Z
LAST-MODIFIED:20260425T101427Z
UID:10048761-1779480000-1779489000@kalender.subonline.org
SUMMARY:VIVA TS Treffen
DESCRIPTION:
URL:https://kalender.subonline.org/event/viva-ts-treffen-14/
LOCATION:Bayern
CATEGORIES:Events im Zentrum
END:VEVENT
BEGIN:VEVENT
DTSTART;TZID=Europe/Berlin:20260523T200000
DTEND;TZID=Europe/Berlin:20260524T010000
DTSTAMP:20260425T122407
CREATED:20260223T232541Z
LAST-MODIFIED:20260425T092728Z
UID:10048764-1779566400-1779584400@kalender.subonline.org
SUMMARY:Tuntopia: NN\, NN\, NN\, NN\, NN
DESCRIPTION:
URL:https://kalender.subonline.org/event/tuntopia-nn-nn-nn-nn-nn-2/
LOCATION:Sub\, Müllerstraße 14\, Müllerstraße 14\, München\, Bayern\, 80469\, Germany
CATEGORIES:Thekendienst
GEO:48.132709;11.5734764
X-APPLE-STRUCTURED-LOCATION;VALUE=URI;X-ADDRESS=Sub Müllerstraße 14 Müllerstraße 14 München Bayern 80469 Germany;X-APPLE-RADIUS=500;X-TITLE=Müllerstraße 14:geo:11.5734764,48.132709
END:VEVENT
BEGIN:VEVENT
DTSTART;TZID=Europe/Berlin:20260523T200000
DTEND;TZID=Europe/Berlin:20260524T010000
DTSTAMP:20260425T122407
CREATED:20260223T232559Z
LAST-MODIFIED:20260425T094500Z
UID:10048765-1779566400-1779584400@kalender.subonline.org
SUMMARY:NN
DESCRIPTION:
URL:https://kalender.subonline.org/event/nn-19/
LOCATION:Sub\, Müllerstraße 14\, Müllerstraße 14\, München\, Bayern\, 80469\, Germany
CATEGORIES:Café-Manager
GEO:48.132709;11.5734764
X-APPLE-STRUCTURED-LOCATION;VALUE=URI;X-ADDRESS=Sub Müllerstraße 14 Müllerstraße 14 München Bayern 80469 Germany;X-APPLE-RADIUS=500;X-TITLE=Müllerstraße 14:geo:11.5734764,48.132709
END:VEVENT
BEGIN:VEVENT
DTSTART;TZID=Europe/Berlin:20260524T190000
DTEND;TZID=Europe/Berlin:20260524T230000
DTSTAMP:20260425T122407
CREATED:20260224T232550Z
LAST-MODIFIED:20260425T092729Z
UID:10048767-1779649200-1779663600@kalender.subonline.org
SUMMARY:Danielle C.\, Evgenii V.\, Kai E.\, Norman S.
DESCRIPTION:
URL:https://kalender.subonline.org/event/nn-nn-nn-49/
LOCATION:Sub\, Müllerstraße 14\, Müllerstraße 14\, München\, Bayern\, 80469\, Germany
CATEGORIES:Thekendienst
GEO:48.132709;11.5734764
X-APPLE-STRUCTURED-LOCATION;VALUE=URI;X-ADDRESS=Sub Müllerstraße 14 Müllerstraße 14 München Bayern 80469 Germany;X-APPLE-RADIUS=500;X-TITLE=Müllerstraße 14:geo:11.5734764,48.132709
END:VEVENT
BEGIN:VEVENT
DTSTART;TZID=Europe/Berlin:20260524T190000
DTEND;TZID=Europe/Berlin:20260524T230000
DTSTAMP:20260425T122407
CREATED:20260224T235612Z
LAST-MODIFIED:20260425T094500Z
UID:10048768-1779649200-1779663600@kalender.subonline.org
SUMMARY:Tovja W.
DESCRIPTION:
URL:https://kalender.subonline.org/event/nn-20/
LOCATION:Sub\, Müllerstraße 14\, Müllerstraße 14\, München\, Bayern\, 80469\, Germany
CATEGORIES:Café-Manager
GEO:48.132709;11.5734764
X-APPLE-STRUCTURED-LOCATION;VALUE=URI;X-ADDRESS=Sub Müllerstraße 14 Müllerstraße 14 München Bayern 80469 Germany;X-APPLE-RADIUS=500;X-TITLE=Müllerstraße 14:geo:11.5734764,48.132709
END:VEVENT
BEGIN:VEVENT
DTSTART;TZID=Europe/Berlin:20260525T190000
DTEND;TZID=Europe/Berlin:20260525T230000
DTSTAMP:20260425T122407
CREATED:20260225T232550Z
LAST-MODIFIED:20260425T092729Z
UID:10048769-1779735600-1779750000@kalender.subonline.org
SUMMARY:Karl-Heinz P.\, NN\, NN\, NN
DESCRIPTION:
URL:https://kalender.subonline.org/event/nn-nn-nn-nn-2/
LOCATION:Sub\, Müllerstraße 14\, Müllerstraße 14\, München\, Bayern\, 80469\, Germany
CATEGORIES:Thekendienst
GEO:48.132709;11.5734764
X-APPLE-STRUCTURED-LOCATION;VALUE=URI;X-ADDRESS=Sub Müllerstraße 14 Müllerstraße 14 München Bayern 80469 Germany;X-APPLE-RADIUS=500;X-TITLE=Müllerstraße 14:geo:11.5734764,48.132709
END:VEVENT
BEGIN:VEVENT
DTSTART;TZID=Europe/Berlin:20260525T190000
DTEND;TZID=Europe/Berlin:20260525T230000
DTSTAMP:20260425T122407
CREATED:20260225T232616Z
LAST-MODIFIED:20260425T094501Z
UID:10048770-1779735600-1779750000@kalender.subonline.org
SUMMARY:NN
DESCRIPTION:
URL:https://kalender.subonline.org/event/nn-142/
LOCATION:Sub\, Müllerstraße 14\, Müllerstraße 14\, München\, Bayern\, 80469\, Germany
CATEGORIES:Café-Manager
GEO:48.132709;11.5734764
X-APPLE-STRUCTURED-LOCATION;VALUE=URI;X-ADDRESS=Sub Müllerstraße 14 Müllerstraße 14 München Bayern 80469 Germany;X-APPLE-RADIUS=500;X-TITLE=Müllerstraße 14:geo:11.5734764,48.132709
END:VEVENT
BEGIN:VEVENT
DTSTART;TZID=Europe/Berlin:20260526T190000
DTEND;TZID=Europe/Berlin:20260526T230000
DTSTAMP:20260425T122407
CREATED:20260226T231042Z
LAST-MODIFIED:20260425T092729Z
UID:10048772-1779822000-1779836400@kalender.subonline.org
SUMMARY:Marc L.\, Stephan F.\, NN
DESCRIPTION:
URL:https://kalender.subonline.org/event/nn-nn-nn-59/
LOCATION:Sub\, Müllerstraße 14\, Müllerstraße 14\, München\, Bayern\, 80469\, Germany
CATEGORIES:Thekendienst
GEO:48.132709;11.5734764
X-APPLE-STRUCTURED-LOCATION;VALUE=URI;X-ADDRESS=Sub Müllerstraße 14 Müllerstraße 14 München Bayern 80469 Germany;X-APPLE-RADIUS=500;X-TITLE=Müllerstraße 14:geo:11.5734764,48.132709
END:VEVENT
BEGIN:VEVENT
DTSTART;TZID=Europe/Berlin:20260526T190000
DTEND;TZID=Europe/Berlin:20260526T230000
DTSTAMP:20260425T122407
CREATED:20260226T234121Z
LAST-MODIFIED:20260425T094501Z
UID:10048773-1779822000-1779836400@kalender.subonline.org
SUMMARY:NN
DESCRIPTION:
URL:https://kalender.subonline.org/event/nn-86/
LOCATION:Sub\, Müllerstraße 14\, Müllerstraße 14\, München\, Bayern\, 80469\, Germany
CATEGORIES:Café-Manager
GEO:48.132709;11.5734764
X-APPLE-STRUCTURED-LOCATION;VALUE=URI;X-ADDRESS=Sub Müllerstraße 14 Müllerstraße 14 München Bayern 80469 Germany;X-APPLE-RADIUS=500;X-TITLE=Müllerstraße 14:geo:11.5734764,48.132709
END:VEVENT
BEGIN:VEVENT
DTSTART;TZID=Europe/Berlin:20260526T193000
DTEND;TZID=Europe/Berlin:20260526T210000
DTSTAMP:20260425T122407
CREATED:20260226T005539Z
LAST-MODIFIED:20260425T101427Z
UID:10048771-1779823800-1779829200@kalender.subonline.org
SUMMARY:Gruppe für schwule/bisexuelle Männer* mit Depressions- und Burnouterfahrung
DESCRIPTION:
URL:https://kalender.subonline.org/event/gruppe-fur-schwule-bisexuelle-manner-mit-depressions-und-burnouterfahrung-17/
LOCATION:Bayern
CATEGORIES:Events im Zentrum
END:VEVENT
BEGIN:VEVENT
DTSTART;TZID=Europe/Berlin:20260527T190000
DTEND;TZID=Europe/Berlin:20260527T203000
DTSTAMP:20260425T122407
CREATED:20260227T011052Z
LAST-MODIFIED:20260425T101431Z
UID:10048778-1779908400-1779913800@kalender.subonline.org
SUMMARY:Post-Chemsex-Gruppe
DESCRIPTION:
URL:https://kalender.subonline.org/event/post-chemsex-gruppe-20/
LOCATION:Bayern
CATEGORIES:Events im Zentrum
END:VEVENT
BEGIN:VEVENT
DTSTART;TZID=Europe/Berlin:20260527T190000
DTEND;TZID=Europe/Berlin:20260527T210000
DTSTAMP:20260425T122407
CREATED:20260227T011052Z
LAST-MODIFIED:20260425T101431Z
UID:10048775-1779908400-1779915600@kalender.subonline.org
SUMMARY:Queer Uferlos Redaktion
DESCRIPTION:
URL:https://kalender.subonline.org/event/queer-uferlos-redaktion/
LOCATION:Bayern
CATEGORIES:Events im Zentrum
END:VEVENT
BEGIN:VEVENT
DTSTART;TZID=Europe/Berlin:20260527T190000
DTEND;TZID=Europe/Berlin:20260527T220000
DTSTAMP:20260425T122407
CREATED:20260227T011052Z
LAST-MODIFIED:20260425T101431Z
UID:10048777-1779908400-1779919200@kalender.subonline.org
SUMMARY:Schach im Sub
DESCRIPTION:
URL:https://kalender.subonline.org/event/schach-im-sub-37/
LOCATION:Bayern
CATEGORIES:Events im Zentrum
END:VEVENT
END:VCALENDAR